BEGIN:VCALENDAR
VERSION:2.0
PRODID:-//Homeward Trails Animal Rescue | Pet Adoption in VA, DC, MD - ECPv6.15.20//NONSGML v1.0//EN
CALSCALE:GREGORIAN
METHOD:PUBLISH
X-WR-CALNAME:Homeward Trails Animal Rescue | Pet Adoption in VA, DC, MD
X-ORIGINAL-URL:https://www.homewardtrails.com
X-WR-CALDESC:Events for Homeward Trails Animal Rescue | Pet Adoption in VA, DC, MD
REFRESH-INTERVAL;VALUE=DURATION:PT1H
X-Robots-Tag:noindex
X-PUBLISHED-TTL:PT1H
BEGIN:VTIMEZONE
TZID:America/New_York
BEGIN:DAYLIGHT
TZOFFSETFROM:-0500
TZOFFSETTO:-0400
TZNAME:EDT
DTSTART:20120311T070000
END:DAYLIGHT
BEGIN:STANDARD
TZOFFSETFROM:-0400
TZOFFSETTO:-0500
TZNAME:EST
DTSTART:20121104T060000
END:STANDARD
BEGIN:DAYLIGHT
TZOFFSETFROM:-0500
TZOFFSETTO:-0400
TZNAME:EDT
DTSTART:20130310T070000
END:DAYLIGHT
BEGIN:STANDARD
TZOFFSETFROM:-0400
TZOFFSETTO:-0500
TZNAME:EST
DTSTART:20131103T060000
END:STANDARD
BEGIN:DAYLIGHT
TZOFFSETFROM:-0500
TZOFFSETTO:-0400
TZNAME:EDT
DTSTART:20140309T070000
END:DAYLIGHT
BEGIN:STANDARD
TZOFFSETFROM:-0400
TZOFFSETTO:-0500
TZNAME:EST
DTSTART:20141102T060000
END:STANDARD
END:VTIMEZONE
BEGIN:VEVENT
DTSTART;TZID=America/New_York:20130309T120000
DTEND;TZID=America/New_York:20130309T140000
DTSTAMP:20260422T180713
CREATED:20130218T171825Z
LAST-MODIFIED:20130307T031519Z
UID:10000049-1362830400-1362837600@www.homewardtrails.com
SUMMARY:Dog Adoption Event - Wylie Wagg Fairfax
DESCRIPTION:Could one of the animals attending this event be the right pet for you? Come find out! Some of our dogs who are looking for homes will be waiting to meet you and Homeward Trails volunteers will be available to talk to you about our animals available for adoption and our adoption process. If you meet a dog who’s a good potential match\, you can submit an adoption questionnaire! \nWylie Wagg of Fairfax is located off Route 50 in the shopping center with Harris Teeter between the exits for Fairfax County Parkway and West Ox Rd. \nPotential Adopters: More animals will likely get signed up so check back as it gets closer to the event.  If you are interested in meeting a specific animal at this event\, please contact the email address listed on his or her Petfinder page (click photo to open) to express your interest and confirm that s/he will be attending. \nAnimals Attending:\nNot able to create a Petfinder V2 access token. Please make sure your API Key and Secret are set correctly on the plugin's settings page. \nNot able to create a Petfinder V2 access token. Please make sure your API Key and Secret are set correctly on the plugin's settings page. \nNot able to create a Petfinder V2 access token. Please make sure your API Key and Secret are set correctly on the plugin's settings page. \nNot able to create a Petfinder V2 access token. Please make sure your API Key and Secret are set correctly on the plugin's settings page. \n  \n  \n  \n  \n 
URL:https://www.homewardtrails.com/event/cat-dog-adoption-event-3/
LOCATION:Wylie Wagg\, 3903-F Fair Ridge Dr\, Fairfax\, VA\,  22033 \, United States
CATEGORIES:Dog Adoption Events
ATTACH;FMTTYPE=:
END:VEVENT
END:VCALENDAR