BEGIN:VCALENDAR
VERSION:2.0
PRODID:-//Homeward Trails Animal Rescue | Pet Adoption in VA, DC, MD - ECPv6.15.20//NONSGML v1.0//EN
CALSCALE:GREGORIAN
METHOD:PUBLISH
X-WR-CALNAME:Homeward Trails Animal Rescue | Pet Adoption in VA, DC, MD
X-ORIGINAL-URL:https://www.homewardtrails.com
X-WR-CALDESC:Events for Homeward Trails Animal Rescue | Pet Adoption in VA, DC, MD
REFRESH-INTERVAL;VALUE=DURATION:PT1H
X-Robots-Tag:noindex
X-PUBLISHED-TTL:PT1H
BEGIN:VTIMEZONE
TZID:America/New_York
BEGIN:DAYLIGHT
TZOFFSETFROM:-0500
TZOFFSETTO:-0400
TZNAME:EDT
DTSTART:20120311T070000
END:DAYLIGHT
BEGIN:STANDARD
TZOFFSETFROM:-0400
TZOFFSETTO:-0500
TZNAME:EST
DTSTART:20121104T060000
END:STANDARD
BEGIN:DAYLIGHT
TZOFFSETFROM:-0500
TZOFFSETTO:-0400
TZNAME:EDT
DTSTART:20130310T070000
END:DAYLIGHT
BEGIN:STANDARD
TZOFFSETFROM:-0400
TZOFFSETTO:-0500
TZNAME:EST
DTSTART:20131103T060000
END:STANDARD
BEGIN:DAYLIGHT
TZOFFSETFROM:-0500
TZOFFSETTO:-0400
TZNAME:EDT
DTSTART:20140309T070000
END:DAYLIGHT
BEGIN:STANDARD
TZOFFSETFROM:-0400
TZOFFSETTO:-0500
TZNAME:EST
DTSTART:20141102T060000
END:STANDARD
END:VTIMEZONE
BEGIN:VEVENT
DTSTART;TZID=America/New_York:20130420T170000
DTEND;TZID=America/New_York:20130420T233000
DTSTAMP:20260421T013642
CREATED:20130223T222318Z
LAST-MODIFIED:20130228T163823Z
UID:10000051-1366477200-1366500600@www.homewardtrails.com
SUMMARY:PawCasso Charity Art Auction & Gala
DESCRIPTION:Please Join Us…\nSaturday\, April 20\, 2013 from 5 pm. to 11:30 pm for the PawCasso Charity Art Auction. \nPawCasso is an elegant evening featuring the art of more than 30 local artists in a live auction\, a spectacular silent auction\, food\, drink\, dancing and music. \nFor more information and to purchase tickets\, visit www.pawcassoart.org.
URL:https://www.homewardtrails.com/event/pawcasso-charity-art-auction/
LOCATION:The Washington Post\, 1150 15th St.\, Washington\, DC\, 20071\, United States
CATEGORIES:Fundraisers,Special Event
ATTACH;FMTTYPE=:
END:VEVENT
END:VCALENDAR