BEGIN:VCALENDAR
VERSION:2.0
PRODID:-//Homeward Trails Animal Rescue | Pet Adoption in VA, DC, MD - ECPv6.15.20//NONSGML v1.0//EN
CALSCALE:GREGORIAN
METHOD:PUBLISH
X-WR-CALNAME:Homeward Trails Animal Rescue | Pet Adoption in VA, DC, MD
X-ORIGINAL-URL:https://www.homewardtrails.com
X-WR-CALDESC:Events for Homeward Trails Animal Rescue | Pet Adoption in VA, DC, MD
REFRESH-INTERVAL;VALUE=DURATION:PT1H
X-Robots-Tag:noindex
X-PUBLISHED-TTL:PT1H
BEGIN:VTIMEZONE
TZID:America/New_York
BEGIN:DAYLIGHT
TZOFFSETFROM:-0500
TZOFFSETTO:-0400
TZNAME:EDT
DTSTART:20120311T070000
END:DAYLIGHT
BEGIN:STANDARD
TZOFFSETFROM:-0400
TZOFFSETTO:-0500
TZNAME:EST
DTSTART:20121104T060000
END:STANDARD
BEGIN:DAYLIGHT
TZOFFSETFROM:-0500
TZOFFSETTO:-0400
TZNAME:EDT
DTSTART:20130310T070000
END:DAYLIGHT
BEGIN:STANDARD
TZOFFSETFROM:-0400
TZOFFSETTO:-0500
TZNAME:EST
DTSTART:20131103T060000
END:STANDARD
BEGIN:DAYLIGHT
TZOFFSETFROM:-0500
TZOFFSETTO:-0400
TZNAME:EDT
DTSTART:20140309T070000
END:DAYLIGHT
BEGIN:STANDARD
TZOFFSETFROM:-0400
TZOFFSETTO:-0500
TZNAME:EST
DTSTART:20141102T060000
END:STANDARD
END:VTIMEZONE
BEGIN:VEVENT
DTSTART;VALUE=DATE:20130407
DTEND;VALUE=DATE:20130408
DTSTAMP:20260420T020722
CREATED:20130228T175301Z
LAST-MODIFIED:20130228T175301Z
UID:10000070-1365292800-1365379199@www.homewardtrails.com
SUMMARY:Cat Adoption Center - Washington\, DC
DESCRIPTION:Some of our cats who are looking for homes live at our adoption center at PetMAC\, the Pet Marketplace and Adoption Center and you can meet them during business hours. Could one of them be the right pet for you? Come find out! If you meet a cat who’s a good potential match\, you can submit an adoption questionnaire. \nTo confirm which cats will be there during the week\, email fostercat@homewardtrails.org.
URL:https://www.homewardtrails.com/event/cat-adoption-center-washington-dc-4/
LOCATION:PetMAC – Washington\, 4220 Fessenden St NW\, Washington\, DC\, 20016\, United States
CATEGORIES:Cat Adoption Events
ATTACH;FMTTYPE=:
END:VEVENT
END:VCALENDAR