BEGIN:VCALENDAR
VERSION:2.0
PRODID:-//Homeward Trails Animal Rescue | Pet Adoption in VA, DC, MD - ECPv6.15.20//NONSGML v1.0//EN
CALSCALE:GREGORIAN
METHOD:PUBLISH
X-ORIGINAL-URL:https://www.homewardtrails.com
X-WR-CALDESC:Events for Homeward Trails Animal Rescue | Pet Adoption in VA, DC, MD
REFRESH-INTERVAL;VALUE=DURATION:PT1H
X-Robots-Tag:noindex
X-PUBLISHED-TTL:PT1H
BEGIN:VTIMEZONE
TZID:America/New_York
BEGIN:DAYLIGHT
TZOFFSETFROM:-0500
TZOFFSETTO:-0400
TZNAME:EDT
DTSTART:20260308T070000
END:DAYLIGHT
BEGIN:STANDARD
TZOFFSETFROM:-0400
TZOFFSETTO:-0500
TZNAME:EST
DTSTART:20261101T060000
END:STANDARD
BEGIN:DAYLIGHT
TZOFFSETFROM:-0500
TZOFFSETTO:-0400
TZNAME:EDT
DTSTART:20270314T070000
END:DAYLIGHT
BEGIN:STANDARD
TZOFFSETFROM:-0400
TZOFFSETTO:-0500
TZNAME:EST
DTSTART:20271107T060000
END:STANDARD
BEGIN:DAYLIGHT
TZOFFSETFROM:-0500
TZOFFSETTO:-0400
TZNAME:EDT
DTSTART:20280312T070000
END:DAYLIGHT
BEGIN:STANDARD
TZOFFSETFROM:-0400
TZOFFSETTO:-0500
TZNAME:EST
DTSTART:20281105T060000
END:STANDARD
END:VTIMEZONE
BEGIN:VEVENT
DTSTART;TZID=America/New_York:20270206T100000
DTEND;TZID=America/New_York:20270206T160000
DTSTAMP:20260421T140826
CREATED:20260209T185405Z
LAST-MODIFIED:20260209T185405Z
UID:10000542-1801908000-1801929600@www.homewardtrails.com
SUMMARY:Dog and Cat Adoption Hours
DESCRIPTION:Visit the Homeward Trails Adoption Center every Saturday & Sunday (10 am – 4 pm) to meet adoptable cats & dogs.
URL:https://www.homewardtrails.com/event/dog-and-cat-adoption-hours-7-3/2027-02-06/
LOCATION:Homeward Trails Manny Law Adoption Center\, 11116 Fairfax Station Rd\, Fairfax Station\, VA\, 22039\, United States
CATEGORIES:Cat Adoption Events,Dog Adoption Events
END:VEVENT
BEGIN:VEVENT
DTSTART;TZID=America/New_York:20270207T100000
DTEND;TZID=America/New_York:20270207T160000
DTSTAMP:20260421T140826
CREATED:20260209T185405Z
LAST-MODIFIED:20260209T185405Z
UID:10000543-1801994400-1802016000@www.homewardtrails.com
SUMMARY:Dog and Cat Adoption Hours
DESCRIPTION:Visit the Homeward Trails Adoption Center every Saturday & Sunday (10 am – 4 pm) to meet adoptable cats & dogs.
URL:https://www.homewardtrails.com/event/dog-and-cat-adoption-hours-7-3/2027-02-07/
LOCATION:Homeward Trails Manny Law Adoption Center\, 11116 Fairfax Station Rd\, Fairfax Station\, VA\, 22039\, United States
CATEGORIES:Cat Adoption Events,Dog Adoption Events
END:VEVENT
BEGIN:VEVENT
DTSTART;TZID=America/New_York:20270213T100000
DTEND;TZID=America/New_York:20270213T160000
DTSTAMP:20260421T140826
CREATED:20260209T185405Z
LAST-MODIFIED:20260209T185405Z
UID:10000544-1802512800-1802534400@www.homewardtrails.com
SUMMARY:Dog and Cat Adoption Hours
DESCRIPTION:Visit the Homeward Trails Adoption Center every Saturday & Sunday (10 am – 4 pm) to meet adoptable cats & dogs.
URL:https://www.homewardtrails.com/event/dog-and-cat-adoption-hours-7-3/2027-02-13/
LOCATION:Homeward Trails Manny Law Adoption Center\, 11116 Fairfax Station Rd\, Fairfax Station\, VA\, 22039\, United States
CATEGORIES:Cat Adoption Events,Dog Adoption Events
END:VEVENT
BEGIN:VEVENT
DTSTART;TZID=America/New_York:20270214T100000
DTEND;TZID=America/New_York:20270214T160000
DTSTAMP:20260421T140826
CREATED:20260209T185405Z
LAST-MODIFIED:20260209T185405Z
UID:10000545-1802599200-1802620800@www.homewardtrails.com
SUMMARY:Dog and Cat Adoption Hours
DESCRIPTION:Visit the Homeward Trails Adoption Center every Saturday & Sunday (10 am – 4 pm) to meet adoptable cats & dogs.
URL:https://www.homewardtrails.com/event/dog-and-cat-adoption-hours-7-3/2027-02-14/
LOCATION:Homeward Trails Manny Law Adoption Center\, 11116 Fairfax Station Rd\, Fairfax Station\, VA\, 22039\, United States
CATEGORIES:Cat Adoption Events,Dog Adoption Events
END:VEVENT
BEGIN:VEVENT
DTSTART;TZID=America/New_York:20270216T180000
DTEND;TZID=America/New_York:20270216T190000
DTSTAMP:20260421T140826
CREATED:20240615T013504Z
LAST-MODIFIED:20240615T013505Z
UID:10000836-1802800800-1802804400@www.homewardtrails.com
SUMMARY:Puppy 101 and 201 Training
DESCRIPTION:Exclusively for our Homeward Trails puppy adopters! Join Jutka Terris\, CPDT-KA on Zoom\, to learn all about the basics of puppy training through adolescence. \nYou can learn more about Jutka and her business PuppyK at https://www.puppyk.com/. \nJoin here.
URL:https://www.homewardtrails.com/event/puppy-101-2-2-2-2-2-2/2027-02-16/
LOCATION:Zoom\, VA\, United States
CATEGORIES:Orientations & Trainings
END:VEVENT
BEGIN:VEVENT
DTSTART;TZID=America/New_York:20270217T183000
DTEND;TZID=America/New_York:20270217T193000
DTSTAMP:20260421T140826
CREATED:20240909T114720Z
LAST-MODIFIED:20240909T114721Z
UID:10001820-1802889000-1802892600@www.homewardtrails.com
SUMMARY:All About Separation Anxiety Training
DESCRIPTION: All About Separation Anxiety -Preventing It & Addressing It\, Zoom training with Alexandra  Dilley\, CPDT-KA \nLearn more about Alexandra and her business Home Alone Canine at https://www.homealonecanine.com/ \nJoin here. \nMeeting ID: 872 9209 2545\nPasscode: 266003
URL:https://www.homewardtrails.com/event/all-about-separation-anxiety-training-2-2/2027-02-17/
LOCATION:VA
CATEGORIES:Orientations & Trainings
END:VEVENT
BEGIN:VEVENT
DTSTART;TZID=America/New_York:20270220T100000
DTEND;TZID=America/New_York:20270220T160000
DTSTAMP:20260421T140827
CREATED:20260209T185405Z
LAST-MODIFIED:20260209T185405Z
UID:10000546-1803117600-1803139200@www.homewardtrails.com
SUMMARY:Dog and Cat Adoption Hours
DESCRIPTION:Visit the Homeward Trails Adoption Center every Saturday & Sunday (10 am – 4 pm) to meet adoptable cats & dogs.
URL:https://www.homewardtrails.com/event/dog-and-cat-adoption-hours-7-3/2027-02-20/
LOCATION:Homeward Trails Manny Law Adoption Center\, 11116 Fairfax Station Rd\, Fairfax Station\, VA\, 22039\, United States
CATEGORIES:Cat Adoption Events,Dog Adoption Events
END:VEVENT
BEGIN:VEVENT
DTSTART;TZID=America/New_York:20270221T100000
DTEND;TZID=America/New_York:20270221T160000
DTSTAMP:20260421T140827
CREATED:20260209T185405Z
LAST-MODIFIED:20260209T185405Z
UID:10000547-1803204000-1803225600@www.homewardtrails.com
SUMMARY:Dog and Cat Adoption Hours
DESCRIPTION:Visit the Homeward Trails Adoption Center every Saturday & Sunday (10 am – 4 pm) to meet adoptable cats & dogs.
URL:https://www.homewardtrails.com/event/dog-and-cat-adoption-hours-7-3/2027-02-21/
LOCATION:Homeward Trails Manny Law Adoption Center\, 11116 Fairfax Station Rd\, Fairfax Station\, VA\, 22039\, United States
CATEGORIES:Cat Adoption Events,Dog Adoption Events
END:VEVENT
BEGIN:VEVENT
DTSTART;TZID=America/New_York:20270225T190000
DTEND;TZID=America/New_York:20270225T200000
DTSTAMP:20260421T140827
CREATED:20230920T162607Z
LAST-MODIFIED:20230920T162629Z
UID:10001076-1803582000-1803585600@www.homewardtrails.com
SUMMARY:Zoom Dog Training - Topics Vary
DESCRIPTION:Help your adopted pup thrive! Join us for rotating dog training topics with Kathleen Alvania\, CPDT-KA. \nLearn more about Kathleen and her business Treats and Triumphs here https://treatsandtriumphs.com/ \nJoin the training here.\nMeeting ID: 880 4477 2090
URL:https://www.homewardtrails.com/event/zoom-dog-training-topics-vary/2027-02-25/
LOCATION:VA
CATEGORIES:Orientations & Trainings
END:VEVENT
BEGIN:VEVENT
DTSTART;TZID=America/New_York:20270227T100000
DTEND;TZID=America/New_York:20270227T160000
DTSTAMP:20260421T140827
CREATED:20260209T185405Z
LAST-MODIFIED:20260209T185405Z
UID:10000548-1803722400-1803744000@www.homewardtrails.com
SUMMARY:Dog and Cat Adoption Hours
DESCRIPTION:Visit the Homeward Trails Adoption Center every Saturday & Sunday (10 am – 4 pm) to meet adoptable cats & dogs.
URL:https://www.homewardtrails.com/event/dog-and-cat-adoption-hours-7-3/2027-02-27/
LOCATION:Homeward Trails Manny Law Adoption Center\, 11116 Fairfax Station Rd\, Fairfax Station\, VA\, 22039\, United States
CATEGORIES:Cat Adoption Events,Dog Adoption Events
END:VEVENT
BEGIN:VEVENT
DTSTART;TZID=America/New_York:20270228T100000
DTEND;TZID=America/New_York:20270228T160000
DTSTAMP:20260421T140827
CREATED:20260209T185405Z
LAST-MODIFIED:20260209T185405Z
UID:10000549-1803808800-1803830400@www.homewardtrails.com
SUMMARY:Dog and Cat Adoption Hours
DESCRIPTION:Visit the Homeward Trails Adoption Center every Saturday & Sunday (10 am – 4 pm) to meet adoptable cats & dogs.
URL:https://www.homewardtrails.com/event/dog-and-cat-adoption-hours-7-3/2027-02-28/
LOCATION:Homeward Trails Manny Law Adoption Center\, 11116 Fairfax Station Rd\, Fairfax Station\, VA\, 22039\, United States
CATEGORIES:Cat Adoption Events,Dog Adoption Events
END:VEVENT
END:VCALENDAR