BEGIN:VCALENDAR
VERSION:2.0
PRODID:-//Homeward Trails Animal Rescue | Pet Adoption in VA, DC, MD - ECPv6.15.20//NONSGML v1.0//EN
CALSCALE:GREGORIAN
METHOD:PUBLISH
X-WR-CALNAME:Homeward Trails Animal Rescue | Pet Adoption in VA, DC, MD
X-ORIGINAL-URL:https://www.homewardtrails.com
X-WR-CALDESC:Events for Homeward Trails Animal Rescue | Pet Adoption in VA, DC, MD
REFRESH-INTERVAL;VALUE=DURATION:PT1H
X-Robots-Tag:noindex
X-PUBLISHED-TTL:PT1H
BEGIN:VTIMEZONE
TZID:America/New_York
BEGIN:DAYLIGHT
TZOFFSETFROM:-0500
TZOFFSETTO:-0400
TZNAME:EDT
DTSTART:20260308T070000
END:DAYLIGHT
BEGIN:STANDARD
TZOFFSETFROM:-0400
TZOFFSETTO:-0500
TZNAME:EST
DTSTART:20261101T060000
END:STANDARD
BEGIN:DAYLIGHT
TZOFFSETFROM:-0500
TZOFFSETTO:-0400
TZNAME:EDT
DTSTART:20270314T070000
END:DAYLIGHT
BEGIN:STANDARD
TZOFFSETFROM:-0400
TZOFFSETTO:-0500
TZNAME:EST
DTSTART:20271107T060000
END:STANDARD
BEGIN:DAYLIGHT
TZOFFSETFROM:-0500
TZOFFSETTO:-0400
TZNAME:EDT
DTSTART:20280312T070000
END:DAYLIGHT
BEGIN:STANDARD
TZOFFSETFROM:-0400
TZOFFSETTO:-0500
TZNAME:EST
DTSTART:20281105T060000
END:STANDARD
BEGIN:DAYLIGHT
TZOFFSETFROM:-0500
TZOFFSETTO:-0400
TZNAME:EDT
DTSTART:20290311T070000
END:DAYLIGHT
BEGIN:STANDARD
TZOFFSETFROM:-0400
TZOFFSETTO:-0500
TZNAME:EST
DTSTART:20291104T060000
END:STANDARD
END:VTIMEZONE
BEGIN:VEVENT
DTSTART;TZID=America/New_York:20270527T190000
DTEND;TZID=America/New_York:20270527T200000
DTSTAMP:20260420T160125
CREATED:20230920T162607Z
LAST-MODIFIED:20230920T162629Z
UID:10001079-1811444400-1811448000@www.homewardtrails.com
SUMMARY:Zoom Dog Training - Topics Vary
DESCRIPTION:Help your adopted pup thrive! Join us for rotating dog training topics with Kathleen Alvania\, CPDT-KA. \nLearn more about Kathleen and her business Treats and Triumphs here https://treatsandtriumphs.com/ \nJoin the training here.\nMeeting ID: 880 4477 2090
URL:https://www.homewardtrails.com/event/zoom-dog-training-topics-vary/2027-05-27/
CATEGORIES:Orientations & Trainings
END:VEVENT
BEGIN:VEVENT
DTSTART;TZID=America/New_York:20270615T180000
DTEND;TZID=America/New_York:20270615T190000
DTSTAMP:20260420T160125
CREATED:20240615T013504Z
LAST-MODIFIED:20240615T013505Z
UID:10000840-1813082400-1813086000@www.homewardtrails.com
SUMMARY:Puppy 101 and 201 Training
DESCRIPTION:Exclusively for our Homeward Trails puppy adopters! Join Jutka Terris\, CPDT-KA on Zoom\, to learn all about the basics of puppy training through adolescence. \nYou can learn more about Jutka and her business PuppyK at https://www.puppyk.com/. \nJoin here.
URL:https://www.homewardtrails.com/event/puppy-101-2-2-2-2-2-2/2027-06-15/
LOCATION:Zoom\, VA\, United States
CATEGORIES:Orientations & Trainings
END:VEVENT
BEGIN:VEVENT
DTSTART;TZID=America/New_York:20270616T183000
DTEND;TZID=America/New_York:20270616T193000
DTSTAMP:20260420T160125
CREATED:20240909T114720Z
LAST-MODIFIED:20240909T114721Z
UID:10001824-1813170600-1813174200@www.homewardtrails.com
SUMMARY:All About Separation Anxiety Training
DESCRIPTION: All About Separation Anxiety -Preventing It & Addressing It\, Zoom training with Alexandra  Dilley\, CPDT-KA \nLearn more about Alexandra and her business Home Alone Canine at https://www.homealonecanine.com/ \nJoin here. \nMeeting ID: 872 9209 2545\nPasscode: 266003
URL:https://www.homewardtrails.com/event/all-about-separation-anxiety-training-2-2/2027-06-16/
CATEGORIES:Orientations & Trainings
END:VEVENT
BEGIN:VEVENT
DTSTART;TZID=America/New_York:20270624T190000
DTEND;TZID=America/New_York:20270624T200000
DTSTAMP:20260420T160125
CREATED:20230920T162607Z
LAST-MODIFIED:20230920T162629Z
UID:10001080-1813863600-1813867200@www.homewardtrails.com
SUMMARY:Zoom Dog Training - Topics Vary
DESCRIPTION:Help your adopted pup thrive! Join us for rotating dog training topics with Kathleen Alvania\, CPDT-KA. \nLearn more about Kathleen and her business Treats and Triumphs here https://treatsandtriumphs.com/ \nJoin the training here.\nMeeting ID: 880 4477 2090
URL:https://www.homewardtrails.com/event/zoom-dog-training-topics-vary/2027-06-24/
CATEGORIES:Orientations & Trainings
END:VEVENT
BEGIN:VEVENT
DTSTART;TZID=America/New_York:20270720T180000
DTEND;TZID=America/New_York:20270720T190000
DTSTAMP:20260420T160125
CREATED:20240615T013504Z
LAST-MODIFIED:20240615T013505Z
UID:10000841-1816106400-1816110000@www.homewardtrails.com
SUMMARY:Puppy 101 and 201 Training
DESCRIPTION:Exclusively for our Homeward Trails puppy adopters! Join Jutka Terris\, CPDT-KA on Zoom\, to learn all about the basics of puppy training through adolescence. \nYou can learn more about Jutka and her business PuppyK at https://www.puppyk.com/. \nJoin here.
URL:https://www.homewardtrails.com/event/puppy-101-2-2-2-2-2-2/2027-07-20/
LOCATION:Zoom\, VA\, United States
CATEGORIES:Orientations & Trainings
END:VEVENT
BEGIN:VEVENT
DTSTART;TZID=America/New_York:20270721T183000
DTEND;TZID=America/New_York:20270721T193000
DTSTAMP:20260420T160125
CREATED:20240909T114720Z
LAST-MODIFIED:20240909T114721Z
UID:10001825-1816194600-1816198200@www.homewardtrails.com
SUMMARY:All About Separation Anxiety Training
DESCRIPTION: All About Separation Anxiety -Preventing It & Addressing It\, Zoom training with Alexandra  Dilley\, CPDT-KA \nLearn more about Alexandra and her business Home Alone Canine at https://www.homealonecanine.com/ \nJoin here. \nMeeting ID: 872 9209 2545\nPasscode: 266003
URL:https://www.homewardtrails.com/event/all-about-separation-anxiety-training-2-2/2027-07-21/
CATEGORIES:Orientations & Trainings
END:VEVENT
BEGIN:VEVENT
DTSTART;TZID=America/New_York:20270729T190000
DTEND;TZID=America/New_York:20270729T200000
DTSTAMP:20260420T160125
CREATED:20230920T162607Z
LAST-MODIFIED:20230920T162629Z
UID:10001081-1816887600-1816891200@www.homewardtrails.com
SUMMARY:Zoom Dog Training - Topics Vary
DESCRIPTION:Help your adopted pup thrive! Join us for rotating dog training topics with Kathleen Alvania\, CPDT-KA. \nLearn more about Kathleen and her business Treats and Triumphs here https://treatsandtriumphs.com/ \nJoin the training here.\nMeeting ID: 880 4477 2090
URL:https://www.homewardtrails.com/event/zoom-dog-training-topics-vary/2027-07-29/
CATEGORIES:Orientations & Trainings
END:VEVENT
BEGIN:VEVENT
DTSTART;TZID=America/New_York:20270817T180000
DTEND;TZID=America/New_York:20270817T190000
DTSTAMP:20260420T160125
CREATED:20240615T013504Z
LAST-MODIFIED:20240615T013505Z
UID:10000842-1818525600-1818529200@www.homewardtrails.com
SUMMARY:Puppy 101 and 201 Training
DESCRIPTION:Exclusively for our Homeward Trails puppy adopters! Join Jutka Terris\, CPDT-KA on Zoom\, to learn all about the basics of puppy training through adolescence. \nYou can learn more about Jutka and her business PuppyK at https://www.puppyk.com/. \nJoin here.
URL:https://www.homewardtrails.com/event/puppy-101-2-2-2-2-2-2/2027-08-17/
LOCATION:Zoom\, VA\, United States
CATEGORIES:Orientations & Trainings
END:VEVENT
BEGIN:VEVENT
DTSTART;TZID=America/New_York:20270818T183000
DTEND;TZID=America/New_York:20270818T193000
DTSTAMP:20260420T160125
CREATED:20240909T114720Z
LAST-MODIFIED:20240909T114721Z
UID:10001826-1818613800-1818617400@www.homewardtrails.com
SUMMARY:All About Separation Anxiety Training
DESCRIPTION: All About Separation Anxiety -Preventing It & Addressing It\, Zoom training with Alexandra  Dilley\, CPDT-KA \nLearn more about Alexandra and her business Home Alone Canine at https://www.homealonecanine.com/ \nJoin here. \nMeeting ID: 872 9209 2545\nPasscode: 266003
URL:https://www.homewardtrails.com/event/all-about-separation-anxiety-training-2-2/2027-08-18/
CATEGORIES:Orientations & Trainings
END:VEVENT
BEGIN:VEVENT
DTSTART;TZID=America/New_York:20270826T190000
DTEND;TZID=America/New_York:20270826T200000
DTSTAMP:20260420T160125
CREATED:20230920T162607Z
LAST-MODIFIED:20230920T162629Z
UID:10001082-1819306800-1819310400@www.homewardtrails.com
SUMMARY:Zoom Dog Training - Topics Vary
DESCRIPTION:Help your adopted pup thrive! Join us for rotating dog training topics with Kathleen Alvania\, CPDT-KA. \nLearn more about Kathleen and her business Treats and Triumphs here https://treatsandtriumphs.com/ \nJoin the training here.\nMeeting ID: 880 4477 2090
URL:https://www.homewardtrails.com/event/zoom-dog-training-topics-vary/2027-08-26/
CATEGORIES:Orientations & Trainings
END:VEVENT
BEGIN:VEVENT
DTSTART;TZID=America/New_York:20270915T183000
DTEND;TZID=America/New_York:20270915T193000
DTSTAMP:20260420T160125
CREATED:20240909T114720Z
LAST-MODIFIED:20240909T114721Z
UID:10001827-1821033000-1821036600@www.homewardtrails.com
SUMMARY:All About Separation Anxiety Training
DESCRIPTION: All About Separation Anxiety -Preventing It & Addressing It\, Zoom training with Alexandra  Dilley\, CPDT-KA \nLearn more about Alexandra and her business Home Alone Canine at https://www.homealonecanine.com/ \nJoin here. \nMeeting ID: 872 9209 2545\nPasscode: 266003
URL:https://www.homewardtrails.com/event/all-about-separation-anxiety-training-2-2/2027-09-15/
CATEGORIES:Orientations & Trainings
END:VEVENT
BEGIN:VEVENT
DTSTART;TZID=America/New_York:20270921T180000
DTEND;TZID=America/New_York:20270921T190000
DTSTAMP:20260420T160125
CREATED:20240615T013504Z
LAST-MODIFIED:20240615T013505Z
UID:10000843-1821549600-1821553200@www.homewardtrails.com
SUMMARY:Puppy 101 and 201 Training
DESCRIPTION:Exclusively for our Homeward Trails puppy adopters! Join Jutka Terris\, CPDT-KA on Zoom\, to learn all about the basics of puppy training through adolescence. \nYou can learn more about Jutka and her business PuppyK at https://www.puppyk.com/. \nJoin here.
URL:https://www.homewardtrails.com/event/puppy-101-2-2-2-2-2-2/2027-09-21/
LOCATION:Zoom\, VA\, United States
CATEGORIES:Orientations & Trainings
END:VEVENT
BEGIN:VEVENT
DTSTART;TZID=America/New_York:20270930T190000
DTEND;TZID=America/New_York:20270930T200000
DTSTAMP:20260420T160125
CREATED:20230920T162607Z
LAST-MODIFIED:20230920T162629Z
UID:10001083-1822330800-1822334400@www.homewardtrails.com
SUMMARY:Zoom Dog Training - Topics Vary
DESCRIPTION:Help your adopted pup thrive! Join us for rotating dog training topics with Kathleen Alvania\, CPDT-KA. \nLearn more about Kathleen and her business Treats and Triumphs here https://treatsandtriumphs.com/ \nJoin the training here.\nMeeting ID: 880 4477 2090
URL:https://www.homewardtrails.com/event/zoom-dog-training-topics-vary/2027-09-30/
CATEGORIES:Orientations & Trainings
END:VEVENT
BEGIN:VEVENT
DTSTART;TZID=America/New_York:20271019T180000
DTEND;TZID=America/New_York:20271019T190000
DTSTAMP:20260420T160125
CREATED:20240615T013504Z
LAST-MODIFIED:20240615T013505Z
UID:10000844-1823968800-1823972400@www.homewardtrails.com
SUMMARY:Puppy 101 and 201 Training
DESCRIPTION:Exclusively for our Homeward Trails puppy adopters! Join Jutka Terris\, CPDT-KA on Zoom\, to learn all about the basics of puppy training through adolescence. \nYou can learn more about Jutka and her business PuppyK at https://www.puppyk.com/. \nJoin here.
URL:https://www.homewardtrails.com/event/puppy-101-2-2-2-2-2-2/2027-10-19/
LOCATION:Zoom\, VA\, United States
CATEGORIES:Orientations & Trainings
END:VEVENT
BEGIN:VEVENT
DTSTART;TZID=America/New_York:20271020T183000
DTEND;TZID=America/New_York:20271020T193000
DTSTAMP:20260420T160126
CREATED:20240909T114720Z
LAST-MODIFIED:20240909T114721Z
UID:10001828-1824057000-1824060600@www.homewardtrails.com
SUMMARY:All About Separation Anxiety Training
DESCRIPTION: All About Separation Anxiety -Preventing It & Addressing It\, Zoom training with Alexandra  Dilley\, CPDT-KA \nLearn more about Alexandra and her business Home Alone Canine at https://www.homealonecanine.com/ \nJoin here. \nMeeting ID: 872 9209 2545\nPasscode: 266003
URL:https://www.homewardtrails.com/event/all-about-separation-anxiety-training-2-2/2027-10-20/
CATEGORIES:Orientations & Trainings
END:VEVENT
BEGIN:VEVENT
DTSTART;TZID=America/New_York:20271028T190000
DTEND;TZID=America/New_York:20271028T200000
DTSTAMP:20260420T160126
CREATED:20230920T162607Z
LAST-MODIFIED:20230920T162629Z
UID:10001084-1824750000-1824753600@www.homewardtrails.com
SUMMARY:Zoom Dog Training - Topics Vary
DESCRIPTION:Help your adopted pup thrive! Join us for rotating dog training topics with Kathleen Alvania\, CPDT-KA. \nLearn more about Kathleen and her business Treats and Triumphs here https://treatsandtriumphs.com/ \nJoin the training here.\nMeeting ID: 880 4477 2090
URL:https://www.homewardtrails.com/event/zoom-dog-training-topics-vary/2027-10-28/
CATEGORIES:Orientations & Trainings
END:VEVENT
BEGIN:VEVENT
DTSTART;TZID=America/New_York:20271116T180000
DTEND;TZID=America/New_York:20271116T190000
DTSTAMP:20260420T160126
CREATED:20240615T013504Z
LAST-MODIFIED:20240615T013505Z
UID:10000845-1826388000-1826391600@www.homewardtrails.com
SUMMARY:Puppy 101 and 201 Training
DESCRIPTION:Exclusively for our Homeward Trails puppy adopters! Join Jutka Terris\, CPDT-KA on Zoom\, to learn all about the basics of puppy training through adolescence. \nYou can learn more about Jutka and her business PuppyK at https://www.puppyk.com/. \nJoin here.
URL:https://www.homewardtrails.com/event/puppy-101-2-2-2-2-2-2/2027-11-16/
LOCATION:Zoom\, VA\, United States
CATEGORIES:Orientations & Trainings
END:VEVENT
BEGIN:VEVENT
DTSTART;TZID=America/New_York:20271117T183000
DTEND;TZID=America/New_York:20271117T193000
DTSTAMP:20260420T160126
CREATED:20240909T114720Z
LAST-MODIFIED:20240909T114721Z
UID:10001829-1826476200-1826479800@www.homewardtrails.com
SUMMARY:All About Separation Anxiety Training
DESCRIPTION: All About Separation Anxiety -Preventing It & Addressing It\, Zoom training with Alexandra  Dilley\, CPDT-KA \nLearn more about Alexandra and her business Home Alone Canine at https://www.homealonecanine.com/ \nJoin here. \nMeeting ID: 872 9209 2545\nPasscode: 266003
URL:https://www.homewardtrails.com/event/all-about-separation-anxiety-training-2-2/2027-11-17/
CATEGORIES:Orientations & Trainings
END:VEVENT
BEGIN:VEVENT
DTSTART;TZID=America/New_York:20271125T190000
DTEND;TZID=America/New_York:20271125T200000
DTSTAMP:20260420T160126
CREATED:20230920T162607Z
LAST-MODIFIED:20230920T162629Z
UID:10001085-1827169200-1827172800@www.homewardtrails.com
SUMMARY:Zoom Dog Training - Topics Vary
DESCRIPTION:Help your adopted pup thrive! Join us for rotating dog training topics with Kathleen Alvania\, CPDT-KA. \nLearn more about Kathleen and her business Treats and Triumphs here https://treatsandtriumphs.com/ \nJoin the training here.\nMeeting ID: 880 4477 2090
URL:https://www.homewardtrails.com/event/zoom-dog-training-topics-vary/2027-11-25/
CATEGORIES:Orientations & Trainings
END:VEVENT
BEGIN:VEVENT
DTSTART;TZID=America/New_York:20271215T183000
DTEND;TZID=America/New_York:20271215T193000
DTSTAMP:20260420T160126
CREATED:20240909T114720Z
LAST-MODIFIED:20240909T114721Z
UID:10001830-1828895400-1828899000@www.homewardtrails.com
SUMMARY:All About Separation Anxiety Training
DESCRIPTION: All About Separation Anxiety -Preventing It & Addressing It\, Zoom training with Alexandra  Dilley\, CPDT-KA \nLearn more about Alexandra and her business Home Alone Canine at https://www.homealonecanine.com/ \nJoin here. \nMeeting ID: 872 9209 2545\nPasscode: 266003
URL:https://www.homewardtrails.com/event/all-about-separation-anxiety-training-2-2/2027-12-15/
CATEGORIES:Orientations & Trainings
END:VEVENT
BEGIN:VEVENT
DTSTART;TZID=America/New_York:20271221T180000
DTEND;TZID=America/New_York:20271221T190000
DTSTAMP:20260420T160126
CREATED:20240615T013504Z
LAST-MODIFIED:20240615T013505Z
UID:10000846-1829412000-1829415600@www.homewardtrails.com
SUMMARY:Puppy 101 and 201 Training
DESCRIPTION:Exclusively for our Homeward Trails puppy adopters! Join Jutka Terris\, CPDT-KA on Zoom\, to learn all about the basics of puppy training through adolescence. \nYou can learn more about Jutka and her business PuppyK at https://www.puppyk.com/. \nJoin here.
URL:https://www.homewardtrails.com/event/puppy-101-2-2-2-2-2-2/2027-12-21/
LOCATION:Zoom\, VA\, United States
CATEGORIES:Orientations & Trainings
END:VEVENT
BEGIN:VEVENT
DTSTART;TZID=America/New_York:20271230T190000
DTEND;TZID=America/New_York:20271230T200000
DTSTAMP:20260420T160126
CREATED:20230920T162607Z
LAST-MODIFIED:20230920T162629Z
UID:10001086-1830193200-1830196800@www.homewardtrails.com
SUMMARY:Zoom Dog Training - Topics Vary
DESCRIPTION:Help your adopted pup thrive! Join us for rotating dog training topics with Kathleen Alvania\, CPDT-KA. \nLearn more about Kathleen and her business Treats and Triumphs here https://treatsandtriumphs.com/ \nJoin the training here.\nMeeting ID: 880 4477 2090
URL:https://www.homewardtrails.com/event/zoom-dog-training-topics-vary/2027-12-30/
CATEGORIES:Orientations & Trainings
END:VEVENT
BEGIN:VEVENT
DTSTART;TZID=America/New_York:20280118T180000
DTEND;TZID=America/New_York:20280118T190000
DTSTAMP:20260420T160126
CREATED:20240615T013504Z
LAST-MODIFIED:20240615T013505Z
UID:10000847-1831831200-1831834800@www.homewardtrails.com
SUMMARY:Puppy 101 and 201 Training
DESCRIPTION:Exclusively for our Homeward Trails puppy adopters! Join Jutka Terris\, CPDT-KA on Zoom\, to learn all about the basics of puppy training through adolescence. \nYou can learn more about Jutka and her business PuppyK at https://www.puppyk.com/. \nJoin here.
URL:https://www.homewardtrails.com/event/puppy-101-2-2-2-2-2-2/2028-01-18/
LOCATION:Zoom\, VA\, United States
CATEGORIES:Orientations & Trainings
END:VEVENT
BEGIN:VEVENT
DTSTART;TZID=America/New_York:20280119T183000
DTEND;TZID=America/New_York:20280119T193000
DTSTAMP:20260420T160126
CREATED:20240909T114720Z
LAST-MODIFIED:20240909T114721Z
UID:10001831-1831919400-1831923000@www.homewardtrails.com
SUMMARY:All About Separation Anxiety Training
DESCRIPTION: All About Separation Anxiety -Preventing It & Addressing It\, Zoom training with Alexandra  Dilley\, CPDT-KA \nLearn more about Alexandra and her business Home Alone Canine at https://www.homealonecanine.com/ \nJoin here. \nMeeting ID: 872 9209 2545\nPasscode: 266003
URL:https://www.homewardtrails.com/event/all-about-separation-anxiety-training-2-2/2028-01-19/
CATEGORIES:Orientations & Trainings
END:VEVENT
BEGIN:VEVENT
DTSTART;TZID=America/New_York:20280127T190000
DTEND;TZID=America/New_York:20280127T200000
DTSTAMP:20260420T160126
CREATED:20230920T162607Z
LAST-MODIFIED:20230920T162629Z
UID:10001087-1832612400-1832616000@www.homewardtrails.com
SUMMARY:Zoom Dog Training - Topics Vary
DESCRIPTION:Help your adopted pup thrive! Join us for rotating dog training topics with Kathleen Alvania\, CPDT-KA. \nLearn more about Kathleen and her business Treats and Triumphs here https://treatsandtriumphs.com/ \nJoin the training here.\nMeeting ID: 880 4477 2090
URL:https://www.homewardtrails.com/event/zoom-dog-training-topics-vary/2028-01-27/
CATEGORIES:Orientations & Trainings
END:VEVENT
BEGIN:VEVENT
DTSTART;TZID=America/New_York:20280215T180000
DTEND;TZID=America/New_York:20280215T190000
DTSTAMP:20260420T160126
CREATED:20240615T013504Z
LAST-MODIFIED:20240615T013505Z
UID:10000848-1834250400-1834254000@www.homewardtrails.com
SUMMARY:Puppy 101 and 201 Training
DESCRIPTION:Exclusively for our Homeward Trails puppy adopters! Join Jutka Terris\, CPDT-KA on Zoom\, to learn all about the basics of puppy training through adolescence. \nYou can learn more about Jutka and her business PuppyK at https://www.puppyk.com/. \nJoin here.
URL:https://www.homewardtrails.com/event/puppy-101-2-2-2-2-2-2/2028-02-15/
LOCATION:Zoom\, VA\, United States
CATEGORIES:Orientations & Trainings
END:VEVENT
BEGIN:VEVENT
DTSTART;TZID=America/New_York:20280216T183000
DTEND;TZID=America/New_York:20280216T193000
DTSTAMP:20260420T160126
CREATED:20240909T114720Z
LAST-MODIFIED:20240909T114721Z
UID:10001832-1834338600-1834342200@www.homewardtrails.com
SUMMARY:All About Separation Anxiety Training
DESCRIPTION: All About Separation Anxiety -Preventing It & Addressing It\, Zoom training with Alexandra  Dilley\, CPDT-KA \nLearn more about Alexandra and her business Home Alone Canine at https://www.homealonecanine.com/ \nJoin here. \nMeeting ID: 872 9209 2545\nPasscode: 266003
URL:https://www.homewardtrails.com/event/all-about-separation-anxiety-training-2-2/2028-02-16/
CATEGORIES:Orientations & Trainings
END:VEVENT
BEGIN:VEVENT
DTSTART;TZID=America/New_York:20280224T190000
DTEND;TZID=America/New_York:20280224T200000
DTSTAMP:20260420T160126
CREATED:20230920T162607Z
LAST-MODIFIED:20230920T162629Z
UID:10001088-1835031600-1835035200@www.homewardtrails.com
SUMMARY:Zoom Dog Training - Topics Vary
DESCRIPTION:Help your adopted pup thrive! Join us for rotating dog training topics with Kathleen Alvania\, CPDT-KA. \nLearn more about Kathleen and her business Treats and Triumphs here https://treatsandtriumphs.com/ \nJoin the training here.\nMeeting ID: 880 4477 2090
URL:https://www.homewardtrails.com/event/zoom-dog-training-topics-vary/2028-02-24/
CATEGORIES:Orientations & Trainings
END:VEVENT
BEGIN:VEVENT
DTSTART;TZID=America/New_York:20280315T183000
DTEND;TZID=America/New_York:20280315T193000
DTSTAMP:20260420T160126
CREATED:20240909T114720Z
LAST-MODIFIED:20240909T114721Z
UID:10001833-1836757800-1836761400@www.homewardtrails.com
SUMMARY:All About Separation Anxiety Training
DESCRIPTION: All About Separation Anxiety -Preventing It & Addressing It\, Zoom training with Alexandra  Dilley\, CPDT-KA \nLearn more about Alexandra and her business Home Alone Canine at https://www.homealonecanine.com/ \nJoin here. \nMeeting ID: 872 9209 2545\nPasscode: 266003
URL:https://www.homewardtrails.com/event/all-about-separation-anxiety-training-2-2/2028-03-15/
CATEGORIES:Orientations & Trainings
END:VEVENT
BEGIN:VEVENT
DTSTART;TZID=America/New_York:20280321T180000
DTEND;TZID=America/New_York:20280321T190000
DTSTAMP:20260420T160126
CREATED:20240615T013504Z
LAST-MODIFIED:20240615T013505Z
UID:10000849-1837274400-1837278000@www.homewardtrails.com
SUMMARY:Puppy 101 and 201 Training
DESCRIPTION:Exclusively for our Homeward Trails puppy adopters! Join Jutka Terris\, CPDT-KA on Zoom\, to learn all about the basics of puppy training through adolescence. \nYou can learn more about Jutka and her business PuppyK at https://www.puppyk.com/. \nJoin here.
URL:https://www.homewardtrails.com/event/puppy-101-2-2-2-2-2-2/2028-03-21/
LOCATION:Zoom\, VA\, United States
CATEGORIES:Orientations & Trainings
END:VEVENT
END:VCALENDAR