BEGIN:VCALENDAR
VERSION:2.0
PRODID:-//Homeward Trails Animal Rescue | Pet Adoption in VA, DC, MD - ECPv6.15.20//NONSGML v1.0//EN
CALSCALE:GREGORIAN
METHOD:PUBLISH
X-WR-CALNAME:Homeward Trails Animal Rescue | Pet Adoption in VA, DC, MD
X-ORIGINAL-URL:https://www.homewardtrails.com
X-WR-CALDESC:Events for Homeward Trails Animal Rescue | Pet Adoption in VA, DC, MD
REFRESH-INTERVAL;VALUE=DURATION:PT1H
X-Robots-Tag:noindex
X-PUBLISHED-TTL:PT1H
BEGIN:VTIMEZONE
TZID:America/New_York
BEGIN:DAYLIGHT
TZOFFSETFROM:-0500
TZOFFSETTO:-0400
TZNAME:EDT
DTSTART:20240310T070000
END:DAYLIGHT
BEGIN:STANDARD
TZOFFSETFROM:-0400
TZOFFSETTO:-0500
TZNAME:EST
DTSTART:20241103T060000
END:STANDARD
BEGIN:DAYLIGHT
TZOFFSETFROM:-0500
TZOFFSETTO:-0400
TZNAME:EDT
DTSTART:20250309T070000
END:DAYLIGHT
BEGIN:STANDARD
TZOFFSETFROM:-0400
TZOFFSETTO:-0500
TZNAME:EST
DTSTART:20251102T060000
END:STANDARD
BEGIN:DAYLIGHT
TZOFFSETFROM:-0500
TZOFFSETTO:-0400
TZNAME:EDT
DTSTART:20260308T070000
END:DAYLIGHT
BEGIN:STANDARD
TZOFFSETFROM:-0400
TZOFFSETTO:-0500
TZNAME:EST
DTSTART:20261101T060000
END:STANDARD
END:VTIMEZONE
BEGIN:VEVENT
DTSTART;TZID=America/New_York:20251127T110000
DTEND;TZID=America/New_York:20251211T170000
DTSTAMP:20260421T150032
CREATED:20251124T005542Z
LAST-MODIFIED:20251124T010221Z
UID:10002751-1764241200-1765472400@www.homewardtrails.com
SUMMARY:PawJammin' Online Auction 2025
DESCRIPTION:Shop from home — in your paw-jamas — AND save lives!\nHelp us raise badly needed funds. It’s been a tough year\, we continue to face many challenges\, but the needs of homeless animals won’t stop and neither will we. \nThanks to generous donors\, PawJammin’ offers 100’s of items! Whether you bid on these unique items for yourself or for holiday gifts you will literally save lives. \nFundraisers allow us to take in many special needs animals who would otherwise be left behind to be euthanized. Help us give them the chance at life they deserve! \nOur medical fund supports animals needing extra medical attention – heartworm treatment\, orthopedic surgeries\, FelV/FIV\, mange/ringworm\, etc. \nBeginning: Thursday\, November 27 at 11:00 am though December 11\, ending at 5:00 pm. \nShop Now!
URL:https://www.homewardtrails.com/event/pawjammin-online-auction-2025/
LOCATION:VA
CATEGORIES:Fundraisers
ATTACH;FMTTYPE=image/png:https://www.homewardtrails.com/wp-content/uploads/2023/03/PawJammin-Final.png
END:VEVENT
BEGIN:VEVENT
DTSTART;TZID=America/New_York:20251206T100000
DTEND;TZID=America/New_York:20251206T160000
DTSTAMP:20260421T150032
CREATED:20250410T030156Z
LAST-MODIFIED:20250410T030156Z
UID:10000420-1765015200-1765036800@www.homewardtrails.com
SUMMARY:Dog and Cat Adoption Hours
DESCRIPTION:Come visit the Homeward Trails Adoption Center every Saturday and Sunday to meet great cats and dogs available for adoption.
URL:https://www.homewardtrails.com/event/dog-and-cat-adoption-hours-7/2025-12-06/
LOCATION:Homeward Trails Manny Law Adoption Center\, 11116 Fairfax Station Rd\, Fairfax Station\, VA\, 22039\, United States
CATEGORIES:Cat Adoption Events,Dog Adoption Events
END:VEVENT
BEGIN:VEVENT
DTSTART;TZID=America/New_York:20251206T130000
DTEND;TZID=America/New_York:20251206T150000
DTSTAMP:20260421T150032
CREATED:20251110T202309Z
LAST-MODIFIED:20251110T202309Z
UID:10002750-1765026000-1765033200@www.homewardtrails.com
SUMMARY:Dogs & Eggnog!
DESCRIPTION:Join us @ GreenPaws Grand Opening!\nShop\, Sip & Celebrate with us!
URL:https://www.homewardtrails.com/event/dogs-eggnog/
LOCATION:Greenpaws\, 1721 W BRADDOCK ROAD\, Alexandria\, VA\, 22302\, United States
END:VEVENT
END:VCALENDAR