BEGIN:VCALENDAR
VERSION:2.0
PRODID:-//Homeward Trails Animal Rescue | Pet Adoption in VA, DC, MD - ECPv6.15.20//NONSGML v1.0//EN
CALSCALE:GREGORIAN
METHOD:PUBLISH
X-ORIGINAL-URL:https://www.homewardtrails.com
X-WR-CALDESC:Events for Homeward Trails Animal Rescue | Pet Adoption in VA, DC, MD
REFRESH-INTERVAL;VALUE=DURATION:PT1H
X-Robots-Tag:noindex
X-PUBLISHED-TTL:PT1H
BEGIN:VTIMEZONE
TZID:America/New_York
BEGIN:DAYLIGHT
TZOFFSETFROM:-0500
TZOFFSETTO:-0400
TZNAME:EDT
DTSTART:20240310T070000
END:DAYLIGHT
BEGIN:STANDARD
TZOFFSETFROM:-0400
TZOFFSETTO:-0500
TZNAME:EST
DTSTART:20241103T060000
END:STANDARD
BEGIN:DAYLIGHT
TZOFFSETFROM:-0500
TZOFFSETTO:-0400
TZNAME:EDT
DTSTART:20250309T070000
END:DAYLIGHT
BEGIN:STANDARD
TZOFFSETFROM:-0400
TZOFFSETTO:-0500
TZNAME:EST
DTSTART:20251102T060000
END:STANDARD
BEGIN:DAYLIGHT
TZOFFSETFROM:-0500
TZOFFSETTO:-0400
TZNAME:EDT
DTSTART:20260308T070000
END:DAYLIGHT
BEGIN:STANDARD
TZOFFSETFROM:-0400
TZOFFSETTO:-0500
TZNAME:EST
DTSTART:20261101T060000
END:STANDARD
END:VTIMEZONE
BEGIN:VEVENT
DTSTART;TZID=America/New_York:20251108T100000
DTEND;TZID=America/New_York:20251108T160000
DTSTAMP:20260421T161725
CREATED:20250410T030156Z
LAST-MODIFIED:20250410T030156Z
UID:10000412-1762596000-1762617600@www.homewardtrails.com
SUMMARY:Dog and Cat Adoption Hours
DESCRIPTION:Come visit the Homeward Trails Adoption Center every Saturday and Sunday to meet great cats and dogs available for adoption.
URL:https://www.homewardtrails.com/event/dog-and-cat-adoption-hours-7/2025-11-08/
LOCATION:Homeward Trails Manny Law Adoption Center\, 11116 Fairfax Station Rd\, Fairfax Station\, VA\, 22039\, United States
CATEGORIES:Cat Adoption Events,Dog Adoption Events
END:VEVENT
BEGIN:VEVENT
DTSTART;TZID=America/New_York:20251108T110000
DTEND;TZID=America/New_York:20251108T140000
DTSTAMP:20260421T161725
CREATED:20251107T195618Z
LAST-MODIFIED:20251107T195618Z
UID:10002748-1762599600-1762610400@www.homewardtrails.com
SUMMARY:Join us @ Alexandria Country Day School Fall Fair
DESCRIPTION:Come meet your next fur-ever friend! \nCountry Market Fair & Homecoming \n \n2025 Fair Attractions \nHomeward Trails Animal Rescue\nBobcat Bonanza\nTurbo Tubs\nDouble Trampoline Thing\nMoon Bounce\nInflatable Obstacle Course\nMagic Art Bus\nFacepainter\nCaricature Artist\nFourth Grade Book Sale\nACDS Robotics Team demonstrations\nBake Sale\nMusic\, Food\, & More!\nFood at the Bobcat Cafe and from the Good Company Doughnut Truck are credit card only. \nItems at the Fourth Grade Book Sale and APF Spirit Wear are credit card only. \nTickets are required for most activities. Tickets may be purchased with cash or credit card at the event.
URL:https://www.homewardtrails.com/event/join-us-alexandria-country-day-school-fall-fair/
LOCATION:Alexandria Country Day School\, 2400 Russell Road\, Alexandria\, VA\, 22301
END:VEVENT
END:VCALENDAR