BEGIN:VCALENDAR
VERSION:2.0
PRODID:-//Homeward Trails Animal Rescue | Pet Adoption in VA, DC, MD - ECPv6.15.20//NONSGML v1.0//EN
CALSCALE:GREGORIAN
METHOD:PUBLISH
X-ORIGINAL-URL:https://www.homewardtrails.com
X-WR-CALDESC:Events for Homeward Trails Animal Rescue | Pet Adoption in VA, DC, MD
REFRESH-INTERVAL;VALUE=DURATION:PT1H
X-Robots-Tag:noindex
X-PUBLISHED-TTL:PT1H
BEGIN:VTIMEZONE
TZID:America/New_York
BEGIN:DAYLIGHT
TZOFFSETFROM:-0500
TZOFFSETTO:-0400
TZNAME:EDT
DTSTART:20240310T070000
END:DAYLIGHT
BEGIN:STANDARD
TZOFFSETFROM:-0400
TZOFFSETTO:-0500
TZNAME:EST
DTSTART:20241103T060000
END:STANDARD
BEGIN:DAYLIGHT
TZOFFSETFROM:-0500
TZOFFSETTO:-0400
TZNAME:EDT
DTSTART:20250309T070000
END:DAYLIGHT
BEGIN:STANDARD
TZOFFSETFROM:-0400
TZOFFSETTO:-0500
TZNAME:EST
DTSTART:20251102T060000
END:STANDARD
BEGIN:DAYLIGHT
TZOFFSETFROM:-0500
TZOFFSETTO:-0400
TZNAME:EDT
DTSTART:20260308T070000
END:DAYLIGHT
BEGIN:STANDARD
TZOFFSETFROM:-0400
TZOFFSETTO:-0500
TZNAME:EST
DTSTART:20261101T060000
END:STANDARD
END:VTIMEZONE
BEGIN:VEVENT
DTSTART;TZID=America/New_York:20251025T100000
DTEND;TZID=America/New_York:20251025T120000
DTSTAMP:20260421T133841
CREATED:20251016T012909Z
LAST-MODIFIED:20251016T012909Z
UID:10002743-1761386400-1761393600@www.homewardtrails.com
SUMMARY:Join us for a Trick & Treat event!
DESCRIPTION:Come meet some adorable\, adoptable pups!
URL:https://www.homewardtrails.com/event/join-us-for-a-trick-treat-event/
LOCATION:Carahsoft\, 11493 Sunset Hills Rd Suite 100\, Reston\, VA\, 20190
END:VEVENT
BEGIN:VEVENT
DTSTART;TZID=America/New_York:20251025T100000
DTEND;TZID=America/New_York:20251025T160000
DTSTAMP:20260421T133841
CREATED:20250410T030156Z
LAST-MODIFIED:20250410T030156Z
UID:10000408-1761386400-1761408000@www.homewardtrails.com
SUMMARY:Dog and Cat Adoption Hours
DESCRIPTION:Come visit the Homeward Trails Adoption Center every Saturday and Sunday to meet great cats and dogs available for adoption.
URL:https://www.homewardtrails.com/event/dog-and-cat-adoption-hours-7/2025-10-25/
LOCATION:Homeward Trails Manny Law Adoption Center\, 11116 Fairfax Station Rd\, Fairfax Station\, VA\, 22039\, United States
CATEGORIES:Cat Adoption Events,Dog Adoption Events
END:VEVENT
BEGIN:VEVENT
DTSTART;TZID=America/New_York:20251025T130000
DTEND;TZID=America/New_York:20251025T160000
DTSTAMP:20260421T133842
CREATED:20251016T004116Z
LAST-MODIFIED:20251016T004116Z
UID:10002742-1761397200-1761408000@www.homewardtrails.com
SUMMARY:Join us at the Subaru Loves Pets event!
DESCRIPTION:Join us for Adoption Day and Meet Your Furry Best Friend!
URL:https://www.homewardtrails.com/event/join-us-at-the-subaru-loves-pets-event/
LOCATION:Sheehy Subara of Springfield\, 7501 Loisdale Rd\,\, Springfield\, VA\, 22150\, United States
END:VEVENT
END:VCALENDAR