BEGIN:VCALENDAR
VERSION:2.0
PRODID:-//Homeward Trails Animal Rescue | Pet Adoption in VA, DC, MD - ECPv6.15.20//NONSGML v1.0//EN
CALSCALE:GREGORIAN
METHOD:PUBLISH
X-ORIGINAL-URL:https://www.homewardtrails.com
X-WR-CALDESC:Events for Homeward Trails Animal Rescue | Pet Adoption in VA, DC, MD
REFRESH-INTERVAL;VALUE=DURATION:PT1H
X-Robots-Tag:noindex
X-PUBLISHED-TTL:PT1H
BEGIN:VTIMEZONE
TZID:America/New_York
BEGIN:DAYLIGHT
TZOFFSETFROM:-0500
TZOFFSETTO:-0400
TZNAME:EDT
DTSTART:20240310T070000
END:DAYLIGHT
BEGIN:STANDARD
TZOFFSETFROM:-0400
TZOFFSETTO:-0500
TZNAME:EST
DTSTART:20241103T060000
END:STANDARD
BEGIN:DAYLIGHT
TZOFFSETFROM:-0500
TZOFFSETTO:-0400
TZNAME:EDT
DTSTART:20250309T070000
END:DAYLIGHT
BEGIN:STANDARD
TZOFFSETFROM:-0400
TZOFFSETTO:-0500
TZNAME:EST
DTSTART:20251102T060000
END:STANDARD
BEGIN:DAYLIGHT
TZOFFSETFROM:-0500
TZOFFSETTO:-0400
TZNAME:EDT
DTSTART:20260308T070000
END:DAYLIGHT
BEGIN:STANDARD
TZOFFSETFROM:-0400
TZOFFSETTO:-0500
TZNAME:EST
DTSTART:20261101T060000
END:STANDARD
END:VTIMEZONE
BEGIN:VEVENT
DTSTART;TZID=America/New_York:20251019T100000
DTEND;TZID=America/New_York:20251019T160000
DTSTAMP:20260421T133844
CREATED:20250410T030156Z
LAST-MODIFIED:20250410T030156Z
UID:10000407-1760868000-1760889600@www.homewardtrails.com
SUMMARY:Dog and Cat Adoption Hours
DESCRIPTION:Come visit the Homeward Trails Adoption Center every Saturday and Sunday to meet great cats and dogs available for adoption.
URL:https://www.homewardtrails.com/event/dog-and-cat-adoption-hours-7/2025-10-19/
LOCATION:Homeward Trails Manny Law Adoption Center\, 11116 Fairfax Station Rd\, Fairfax Station\, VA\, 22039\, United States
CATEGORIES:Cat Adoption Events,Dog Adoption Events
END:VEVENT
BEGIN:VEVENT
DTSTART;TZID=America/New_York:20251019T130000
DTEND;TZID=America/New_York:20251019T160000
DTSTAMP:20260421T133844
CREATED:20251018T002115Z
LAST-MODIFIED:20251018T002115Z
UID:10002744-1760878800-1760889600@www.homewardtrails.com
SUMMARY:Fall Festival @ Olde Forge-Surrey Square
DESCRIPTION:We will have a couple of our foster dogs there! \nThe Olde Forge-Surrey Square annual Fall Festival is scheduled for Sunday\, October 19th from 1-4 pm.  \nDate: Sunday\, October 19th\nTime: 1-4pm\nLocation: Brandywine Swim Club parking lot\n9537 Helenwood Drive\nFairfax\, VA 22032 \nWe will have games\, small business vendors\, 50/50 raffle\, concession stand and more!
URL:https://www.homewardtrails.com/event/fall-festival-olde-forge-surrey-square/
LOCATION:brandywine swim club\, 9537 Helenwood Drive\, Fairfax\, VA\, 22032\, United States
END:VEVENT
END:VCALENDAR