BEGIN:VCALENDAR
VERSION:2.0
PRODID:-//Homeward Trails Animal Rescue | Pet Adoption in VA, DC, MD - ECPv6.15.20//NONSGML v1.0//EN
CALSCALE:GREGORIAN
METHOD:PUBLISH
X-ORIGINAL-URL:https://www.homewardtrails.com
X-WR-CALDESC:Events for Homeward Trails Animal Rescue | Pet Adoption in VA, DC, MD
REFRESH-INTERVAL;VALUE=DURATION:PT1H
X-Robots-Tag:noindex
X-PUBLISHED-TTL:PT1H
BEGIN:VTIMEZONE
TZID:America/New_York
BEGIN:DAYLIGHT
TZOFFSETFROM:-0500
TZOFFSETTO:-0400
TZNAME:EDT
DTSTART:20240310T070000
END:DAYLIGHT
BEGIN:STANDARD
TZOFFSETFROM:-0400
TZOFFSETTO:-0500
TZNAME:EST
DTSTART:20241103T060000
END:STANDARD
BEGIN:DAYLIGHT
TZOFFSETFROM:-0500
TZOFFSETTO:-0400
TZNAME:EDT
DTSTART:20250309T070000
END:DAYLIGHT
BEGIN:STANDARD
TZOFFSETFROM:-0400
TZOFFSETTO:-0500
TZNAME:EST
DTSTART:20251102T060000
END:STANDARD
BEGIN:DAYLIGHT
TZOFFSETFROM:-0500
TZOFFSETTO:-0400
TZNAME:EDT
DTSTART:20260308T070000
END:DAYLIGHT
BEGIN:STANDARD
TZOFFSETFROM:-0400
TZOFFSETTO:-0500
TZNAME:EST
DTSTART:20261101T060000
END:STANDARD
END:VTIMEZONE
BEGIN:VEVENT
DTSTART;TZID=America/New_York:20251004T100000
DTEND;TZID=America/New_York:20251004T160000
DTSTAMP:20260420T234350
CREATED:20250410T030156Z
LAST-MODIFIED:20250410T030156Z
UID:10000402-1759572000-1759593600@www.homewardtrails.com
SUMMARY:Dog and Cat Adoption Hours
DESCRIPTION:Come visit the Homeward Trails Adoption Center every Saturday and Sunday to meet great cats and dogs available for adoption.
URL:https://www.homewardtrails.com/event/dog-and-cat-adoption-hours-7/2025-10-04/
LOCATION:Homeward Trails Manny Law Adoption Center\, 11116 Fairfax Station Rd\, Fairfax Station\, VA\, 22039\, United States
CATEGORIES:Cat Adoption Events,Dog Adoption Events
END:VEVENT
BEGIN:VEVENT
DTSTART;TZID=America/New_York:20251004T110000
DTEND;TZID=America/New_York:20251004T150000
DTSTAMP:20260420T234350
CREATED:20250828T144536Z
LAST-MODIFIED:20250904T185816Z
UID:10002731-1759575600-1759590000@www.homewardtrails.com
SUMMARY:Winery at LaGrange :K9’S in the Vines
DESCRIPTION:We are partnering with The Winery at LaGrange and will have adorable\, adoptable pups! \nBring your four legged friends and join us for a special dog walk and tasting! Stop at tasting stations throughout the vineyard and enjoy samples of estate wines. Each participant will receive a complimentary stemless glass to take home along with the tasting. Stay after for dog related vendors and meet some of our adoptable dogs. \nA portion of your ticket proceeds will be donated to Homeward Trails! Purchase tickets here: https://wineryatlagrange.orderport.net/product-details/1364/K9%E2%80%99s-in-the-Vines-October-2025
URL:https://www.homewardtrails.com/event/winery-at-lagrange-k9s-in-the-vines/
LOCATION:The Winery at La Grange\, 4970 Antioch Road\, Haymarket\, VA\, 20169\, United States
END:VEVENT
END:VCALENDAR