BEGIN:VCALENDAR
VERSION:2.0
PRODID:-//Homeward Trails Animal Rescue | Pet Adoption in VA, DC, MD - ECPv6.15.20//NONSGML v1.0//EN
CALSCALE:GREGORIAN
METHOD:PUBLISH
X-ORIGINAL-URL:https://www.homewardtrails.com
X-WR-CALDESC:Events for Homeward Trails Animal Rescue | Pet Adoption in VA, DC, MD
REFRESH-INTERVAL;VALUE=DURATION:PT1H
X-Robots-Tag:noindex
X-PUBLISHED-TTL:PT1H
BEGIN:VTIMEZONE
TZID:America/New_York
BEGIN:DAYLIGHT
TZOFFSETFROM:-0500
TZOFFSETTO:-0400
TZNAME:EDT
DTSTART:20230312T070000
END:DAYLIGHT
BEGIN:STANDARD
TZOFFSETFROM:-0400
TZOFFSETTO:-0500
TZNAME:EST
DTSTART:20231105T060000
END:STANDARD
BEGIN:DAYLIGHT
TZOFFSETFROM:-0500
TZOFFSETTO:-0400
TZNAME:EDT
DTSTART:20240310T070000
END:DAYLIGHT
BEGIN:STANDARD
TZOFFSETFROM:-0400
TZOFFSETTO:-0500
TZNAME:EST
DTSTART:20241103T060000
END:STANDARD
BEGIN:DAYLIGHT
TZOFFSETFROM:-0500
TZOFFSETTO:-0400
TZNAME:EDT
DTSTART:20250309T070000
END:DAYLIGHT
BEGIN:STANDARD
TZOFFSETFROM:-0400
TZOFFSETTO:-0500
TZNAME:EST
DTSTART:20251102T060000
END:STANDARD
END:VTIMEZONE
BEGIN:VEVENT
DTSTART;TZID=America/New_York:20240922T083000
DTEND;TZID=America/New_York:20240922T110000
DTSTAMP:20260421T174002
CREATED:20240906T123203Z
LAST-MODIFIED:20240906T141518Z
UID:10001790-1726993800-1727002800@www.homewardtrails.com
SUMMARY:Reston RunFest/Dog Adoption Event
DESCRIPTION:Come meet some of our adorable\, adoptable dogs!
URL:https://www.homewardtrails.com/event/reston-runfest-dog-adoption-event/
LOCATION:Reston Town Center\, 1818 Discovery St\, Reston\, VA\, 20190\, United States
CATEGORIES:Dog Adoption Events
END:VEVENT
BEGIN:VEVENT
DTSTART;TZID=America/New_York:20240922T100000
DTEND;TZID=America/New_York:20240922T160000
DTSTAMP:20260421T174002
CREATED:20230429T221503Z
LAST-MODIFIED:20250410T030057Z
UID:10000295-1726999200-1727020800@www.homewardtrails.com
SUMMARY:Dog and Cat Adoption Hours
DESCRIPTION:Come visit the Homeward Trails Adoption Center every Saturday and Sunday to meet great cats and dogs available for adoption.
URL:https://www.homewardtrails.com/event/dog-and-cat-adoption-hours/2024-09-22/
LOCATION:Homeward Trails Manny Law Adoption Center\, 11116 Fairfax Station Rd\, Fairfax Station\, VA\, 22039\, United States
CATEGORIES:Cat Adoption Events,Dog Adoption Events
END:VEVENT
END:VCALENDAR