BEGIN:VCALENDAR
VERSION:2.0
PRODID:-//Homeward Trails Animal Rescue | Pet Adoption in VA, DC, MD - ECPv6.15.20//NONSGML v1.0//EN
CALSCALE:GREGORIAN
METHOD:PUBLISH
X-ORIGINAL-URL:https://www.homewardtrails.com
X-WR-CALDESC:Events for Homeward Trails Animal Rescue | Pet Adoption in VA, DC, MD
REFRESH-INTERVAL;VALUE=DURATION:PT1H
X-Robots-Tag:noindex
X-PUBLISHED-TTL:PT1H
BEGIN:VTIMEZONE
TZID:America/New_York
BEGIN:DAYLIGHT
TZOFFSETFROM:-0500
TZOFFSETTO:-0400
TZNAME:EDT
DTSTART:20230312T070000
END:DAYLIGHT
BEGIN:STANDARD
TZOFFSETFROM:-0400
TZOFFSETTO:-0500
TZNAME:EST
DTSTART:20231105T060000
END:STANDARD
BEGIN:DAYLIGHT
TZOFFSETFROM:-0500
TZOFFSETTO:-0400
TZNAME:EDT
DTSTART:20240310T070000
END:DAYLIGHT
BEGIN:STANDARD
TZOFFSETFROM:-0400
TZOFFSETTO:-0500
TZNAME:EST
DTSTART:20241103T060000
END:STANDARD
BEGIN:DAYLIGHT
TZOFFSETFROM:-0500
TZOFFSETTO:-0400
TZNAME:EDT
DTSTART:20250309T070000
END:DAYLIGHT
BEGIN:STANDARD
TZOFFSETFROM:-0400
TZOFFSETTO:-0500
TZNAME:EST
DTSTART:20251102T060000
END:STANDARD
END:VTIMEZONE
BEGIN:VEVENT
DTSTART;TZID=America/New_York:20240316T100000
DTEND;TZID=America/New_York:20240316T160000
DTSTAMP:20260422T180721
CREATED:20230429T221503Z
LAST-MODIFIED:20250410T030057Z
UID:10000240-1710583200-1710604800@www.homewardtrails.com
SUMMARY:Dog and Cat Adoption Hours
DESCRIPTION:Come visit the Homeward Trails Adoption Center every Saturday and Sunday to meet great cats and dogs available for adoption.
URL:https://www.homewardtrails.com/event/dog-and-cat-adoption-hours/2024-03-16/
LOCATION:Homeward Trails Manny Law Adoption Center\, 11116 Fairfax Station Rd\, Fairfax Station\, VA\, 22039\, United States
CATEGORIES:Cat Adoption Events,Dog Adoption Events
END:VEVENT
BEGIN:VEVENT
DTSTART;TZID=America/New_York:20240316T180000
DTEND;TZID=America/New_York:20240316T210000
DTSTAMP:20260422T180721
CREATED:20240205T125455Z
LAST-MODIFIED:20240205T125714Z
UID:10001710-1710612000-1710622800@www.homewardtrails.com
SUMMARY:Spaghetti Bingo
DESCRIPTION:Get your tickets today and join us for a family-friendly night of fun at our Spaghetti Bingo fundraiser on one of two nights – March 16th or March 23rd. Ticket prices include all-you-can-eat spaghetti\, garlic bread\, salad\, soft drinks\, desserts and 6 bingo cards. Additional bingo cards\, raffle tickets\, and beer and wine will be available for purchase and there will be many great items on the silent auction. Tickets will sell out so be sure to get yours today! \nGet Tickets For March 16 \nGet Tickets for March 23
URL:https://www.homewardtrails.com/event/spaghetti-bingo-5/2024-03-16/
LOCATION:Lyon Park Community Center\, 414 N. Fillmore St\, Arlington\, VA\, 22210\, United States
CATEGORIES:Fundraisers
ATTACH;FMTTYPE=image/jpeg:https://www.homewardtrails.com/wp-content/uploads/2023/02/Spaghetti-Bingo2.jpg
END:VEVENT
END:VCALENDAR