BEGIN:VCALENDAR
VERSION:2.0
PRODID:-//Homeward Trails Animal Rescue | Pet Adoption in VA, DC, MD - ECPv6.15.20//NONSGML v1.0//EN
CALSCALE:GREGORIAN
METHOD:PUBLISH
X-ORIGINAL-URL:https://www.homewardtrails.com
X-WR-CALDESC:Events for Homeward Trails Animal Rescue | Pet Adoption in VA, DC, MD
REFRESH-INTERVAL;VALUE=DURATION:PT1H
X-Robots-Tag:noindex
X-PUBLISHED-TTL:PT1H
BEGIN:VTIMEZONE
TZID:America/New_York
BEGIN:DAYLIGHT
TZOFFSETFROM:-0500
TZOFFSETTO:-0400
TZNAME:EDT
DTSTART:20230312T070000
END:DAYLIGHT
BEGIN:STANDARD
TZOFFSETFROM:-0400
TZOFFSETTO:-0500
TZNAME:EST
DTSTART:20231105T060000
END:STANDARD
BEGIN:DAYLIGHT
TZOFFSETFROM:-0500
TZOFFSETTO:-0400
TZNAME:EDT
DTSTART:20240310T070000
END:DAYLIGHT
BEGIN:STANDARD
TZOFFSETFROM:-0400
TZOFFSETTO:-0500
TZNAME:EST
DTSTART:20241103T060000
END:STANDARD
BEGIN:DAYLIGHT
TZOFFSETFROM:-0500
TZOFFSETTO:-0400
TZNAME:EDT
DTSTART:20250309T070000
END:DAYLIGHT
BEGIN:STANDARD
TZOFFSETFROM:-0400
TZOFFSETTO:-0500
TZNAME:EST
DTSTART:20251102T060000
END:STANDARD
END:VTIMEZONE
BEGIN:VEVENT
DTSTART;TZID=America/New_York:20240311T190000
DTEND;TZID=America/New_York:20240311T200000
DTSTAMP:20260423T055847
CREATED:20240306T163713Z
LAST-MODIFIED:20240306T163821Z
UID:10001723-1710183600-1710187200@www.homewardtrails.com
SUMMARY:Considerations When Choosing Pet Care Webinar
DESCRIPTION:Just in time for your summer vacation planning\, join us for an informative webinar on things you should consider when choosing a dog walker/pet sitter\, especially when your pup has some behavior concerns. Join Susan Aceti\, owner of Challenging Dogs\, as she helps you take some of the guesswork out of choosing a sitter who can meet your dog’s needs. \nFinding a pet sitter (or walker) who you can trust to take care of your dog can be very difficult.  “I love dogs” isn’t always enough of a qualification for a skilled\, reliable sitter or walker. This webinar covers how to select a good sitter based on what your dog needs\, how to consider the fear and anxiety your dog may feel in new situations\, and issues that may be important to you\, including good communication\, reliability\, and safety. If your dog has behavior challenges\, understanding what your dog needs and what a potential sitter needs to know how to do\, is even more important. \nSusan Aceti is the owner of Challenging Dogs Pet Care – a company providing sitting\, boarding\, daycare and walking for dogs with behavior challenges. She founded Challenging Dogs in 2021 and before that provided boarding\, daycare and walking services via Rover to many fearful and anxious dogs. She had her own anxious dog for 15 years who presented a very big challenge to any potential sitter or walker. \nRegister HERE and look for the Zoom link in the sign up confirmation.
URL:https://www.homewardtrails.com/event/considerations-when-choosing-pet-care/
LOCATION:Zoom\, VA\, United States
CATEGORIES:Orientations & Trainings
END:VEVENT
END:VCALENDAR