BEGIN:VCALENDAR
VERSION:2.0
PRODID:-//Homeward Trails Animal Rescue | Pet Adoption in VA, DC, MD - ECPv6.15.20//NONSGML v1.0//EN
CALSCALE:GREGORIAN
METHOD:PUBLISH
X-WR-CALNAME:Homeward Trails Animal Rescue | Pet Adoption in VA, DC, MD
X-ORIGINAL-URL:https://www.homewardtrails.com
X-WR-CALDESC:Events for Homeward Trails Animal Rescue | Pet Adoption in VA, DC, MD
REFRESH-INTERVAL;VALUE=DURATION:PT1H
X-Robots-Tag:noindex
X-PUBLISHED-TTL:PT1H
BEGIN:VTIMEZONE
TZID:America/New_York
BEGIN:DAYLIGHT
TZOFFSETFROM:-0500
TZOFFSETTO:-0400
TZNAME:EDT
DTSTART:20230312T070000
END:DAYLIGHT
BEGIN:STANDARD
TZOFFSETFROM:-0400
TZOFFSETTO:-0500
TZNAME:EST
DTSTART:20231105T060000
END:STANDARD
BEGIN:DAYLIGHT
TZOFFSETFROM:-0500
TZOFFSETTO:-0400
TZNAME:EDT
DTSTART:20240310T070000
END:DAYLIGHT
BEGIN:STANDARD
TZOFFSETFROM:-0400
TZOFFSETTO:-0500
TZNAME:EST
DTSTART:20241103T060000
END:STANDARD
BEGIN:DAYLIGHT
TZOFFSETFROM:-0500
TZOFFSETTO:-0400
TZNAME:EDT
DTSTART:20250309T070000
END:DAYLIGHT
BEGIN:STANDARD
TZOFFSETFROM:-0400
TZOFFSETTO:-0500
TZNAME:EST
DTSTART:20251102T060000
END:STANDARD
END:VTIMEZONE
BEGIN:VEVENT
DTSTART;TZID=America/New_York:20240302T100000
DTEND;TZID=America/New_York:20240302T160000
DTSTAMP:20260422T191232
CREATED:20230429T221503Z
LAST-MODIFIED:20250410T030057Z
UID:10000236-1709373600-1709395200@www.homewardtrails.com
SUMMARY:Dog and Cat Adoption Hours
DESCRIPTION:Come visit the Homeward Trails Adoption Center every Saturday and Sunday to meet great cats and dogs available for adoption.
URL:https://www.homewardtrails.com/event/dog-and-cat-adoption-hours/2024-03-02/
LOCATION:Homeward Trails Manny Law Adoption Center\, 11116 Fairfax Station Rd\, Fairfax Station\, VA\, 22039\, United States
CATEGORIES:Cat Adoption Events,Dog Adoption Events
END:VEVENT
BEGIN:VEVENT
DTSTART;TZID=America/New_York:20240302T110000
DTEND;TZID=America/New_York:20240302T150000
DTSTAMP:20260422T191232
CREATED:20240224T184418Z
LAST-MODIFIED:20240224T184636Z
UID:10001722-1709377200-1709391600@www.homewardtrails.com
SUMMARY:Rolling With It Beer Launch and Dog Adoption Event at Juicy Brewing
DESCRIPTION:Our friends at Juicy Brewing Co have created a collaboration beer Rolling With It! featuring features Wheeled up pup and HT Alum Tyra! $1 of every beer sold will be donated to HT. Candles from the Rolling With It can will also be available. $5 from every candle will be donated to HT.\n\n\n\nJoin us Saturday\, March 2nd at Juicy Brewing Company from 11am-3pm for the launch party. Be the first to try Rolling With It! Buy a pack to take home\, pick up a candle\, and check out adoptable HT pups! We’ll see you at 257 Sunset Park Dr. Herndon\, VA 20170.\n\n\nWe will also have adoptable dogs for you to meet!\n\n\nPre-order candles here: https://shorturl.at/cAOQT\nPre-order Rolling With It! – coming soon!\n\n\n\nThank you again to Juicy Brewing Company and Tyra the Wheeled Up Pup!
URL:https://www.homewardtrails.com/event/rolling-with-it-beer-launch-and-dog-adoption-event-at-juicy-brewing/
LOCATION:Juicy Brewing Company\, 257 Sunset Park Dr.\, Herndon\, VA\, 20170
CATEGORIES:Dog Adoption Events,Fundraisers
ATTACH;FMTTYPE=image/jpeg:https://www.homewardtrails.com/wp-content/uploads/2024/02/428653511_948143346667457_8533647558335368007_n.jpg
END:VEVENT
END:VCALENDAR