BEGIN:VCALENDAR
VERSION:2.0
PRODID:-//Homeward Trails Animal Rescue | Pet Adoption in VA, DC, MD - ECPv6.15.20//NONSGML v1.0//EN
CALSCALE:GREGORIAN
METHOD:PUBLISH
X-ORIGINAL-URL:https://www.homewardtrails.com
X-WR-CALDESC:Events for Homeward Trails Animal Rescue | Pet Adoption in VA, DC, MD
REFRESH-INTERVAL;VALUE=DURATION:PT1H
X-Robots-Tag:noindex
X-PUBLISHED-TTL:PT1H
BEGIN:VTIMEZONE
TZID:America/New_York
BEGIN:DAYLIGHT
TZOFFSETFROM:-0500
TZOFFSETTO:-0400
TZNAME:EDT
DTSTART:20230312T070000
END:DAYLIGHT
BEGIN:STANDARD
TZOFFSETFROM:-0400
TZOFFSETTO:-0500
TZNAME:EST
DTSTART:20231105T060000
END:STANDARD
BEGIN:DAYLIGHT
TZOFFSETFROM:-0500
TZOFFSETTO:-0400
TZNAME:EDT
DTSTART:20240310T070000
END:DAYLIGHT
BEGIN:STANDARD
TZOFFSETFROM:-0400
TZOFFSETTO:-0500
TZNAME:EST
DTSTART:20241103T060000
END:STANDARD
BEGIN:DAYLIGHT
TZOFFSETFROM:-0500
TZOFFSETTO:-0400
TZNAME:EDT
DTSTART:20250309T070000
END:DAYLIGHT
BEGIN:STANDARD
TZOFFSETFROM:-0400
TZOFFSETTO:-0500
TZNAME:EST
DTSTART:20251102T060000
END:STANDARD
END:VTIMEZONE
BEGIN:VEVENT
DTSTART;TZID=America/New_York:20240224T100000
DTEND;TZID=America/New_York:20240224T160000
DTSTAMP:20260423T134951
CREATED:20230429T221503Z
LAST-MODIFIED:20250410T030057Z
UID:10000234-1708768800-1708790400@www.homewardtrails.com
SUMMARY:Dog and Cat Adoption Hours
DESCRIPTION:Come visit the Homeward Trails Adoption Center every Saturday and Sunday to meet great cats and dogs available for adoption.
URL:https://www.homewardtrails.com/event/dog-and-cat-adoption-hours/2024-02-24/
LOCATION:Homeward Trails Manny Law Adoption Center\, 11116 Fairfax Station Rd\, Fairfax Station\, VA\, 22039\, United States
CATEGORIES:Cat Adoption Events,Dog Adoption Events
END:VEVENT
BEGIN:VEVENT
DTSTART;TZID=America/New_York:20240224T160000
DTEND;TZID=America/New_York:20240224T210000
DTSTAMP:20260423T134951
CREATED:20240224T183021Z
LAST-MODIFIED:20240224T183046Z
UID:10001721-1708790400-1708808400@www.homewardtrails.com
SUMMARY:Fundraiser at Dawson's Market
DESCRIPTION:Shop at Dawson’s Market from 4-9 PM and homeward Trails will receive a 10% donation from your purchase with this PRINTED flyer. \nShop at Dawson’s Market 225 N. Washington St.\, Rockville from 4pm-9pm. Bring this PRINTED flyer and submit at checkout. And just like that you’re supporting Homeward Trails! Thank you Dawson’s Market for your support!
URL:https://www.homewardtrails.com/event/fundraiser-at-dawsons-market/
LOCATION:Dawson’s Market\, 225 N. Washington St\, Rockville\, MD
CATEGORIES:Fundraisers
END:VEVENT
END:VCALENDAR