BEGIN:VCALENDAR
VERSION:2.0
PRODID:-//Homeward Trails Animal Rescue | Pet Adoption in VA, DC, MD - ECPv6.15.20//NONSGML v1.0//EN
CALSCALE:GREGORIAN
METHOD:PUBLISH
X-ORIGINAL-URL:https://www.homewardtrails.com
X-WR-CALDESC:Events for Homeward Trails Animal Rescue | Pet Adoption in VA, DC, MD
REFRESH-INTERVAL;VALUE=DURATION:PT1H
X-Robots-Tag:noindex
X-PUBLISHED-TTL:PT1H
BEGIN:VTIMEZONE
TZID:America/New_York
BEGIN:DAYLIGHT
TZOFFSETFROM:-0500
TZOFFSETTO:-0400
TZNAME:EDT
DTSTART:20230312T070000
END:DAYLIGHT
BEGIN:STANDARD
TZOFFSETFROM:-0400
TZOFFSETTO:-0500
TZNAME:EST
DTSTART:20231105T060000
END:STANDARD
BEGIN:DAYLIGHT
TZOFFSETFROM:-0500
TZOFFSETTO:-0400
TZNAME:EDT
DTSTART:20240310T070000
END:DAYLIGHT
BEGIN:STANDARD
TZOFFSETFROM:-0400
TZOFFSETTO:-0500
TZNAME:EST
DTSTART:20241103T060000
END:STANDARD
BEGIN:DAYLIGHT
TZOFFSETFROM:-0500
TZOFFSETTO:-0400
TZNAME:EDT
DTSTART:20250309T070000
END:DAYLIGHT
BEGIN:STANDARD
TZOFFSETFROM:-0400
TZOFFSETTO:-0500
TZNAME:EST
DTSTART:20251102T060000
END:STANDARD
END:VTIMEZONE
BEGIN:VEVENT
DTSTART;TZID=America/New_York:20240113T100000
DTEND;TZID=America/New_York:20240113T160000
DTSTAMP:20260424T012336
CREATED:20230429T221503Z
LAST-MODIFIED:20250410T030057Z
UID:10000222-1705140000-1705161600@www.homewardtrails.com
SUMMARY:Dog and Cat Adoption Hours
DESCRIPTION:Come visit the Homeward Trails Adoption Center every Saturday and Sunday to meet great cats and dogs available for adoption.
URL:https://www.homewardtrails.com/event/dog-and-cat-adoption-hours/2024-01-13/
LOCATION:Homeward Trails Manny Law Adoption Center\, 11116 Fairfax Station Rd\, Fairfax Station\, VA\, 22039\, United States
CATEGORIES:Cat Adoption Events,Dog Adoption Events
END:VEVENT
BEGIN:VEVENT
DTSTART;TZID=America/New_York:20240113T103000
DTEND;TZID=America/New_York:20240113T111500
DTSTAMP:20260424T012337
CREATED:20240105T150407Z
LAST-MODIFIED:20240105T150407Z
UID:10001689-1705141800-1705144500@www.homewardtrails.com
SUMMARY:UpDog Yoga Adoption Event
DESCRIPTION:Join Homeward Trails as we come together with Updog Yoga Community\, DC for a super fun yoga class and adoption event\, sign up for a class using the app- more info on sign ups on Updogs website: \nhttps://www.updogyogacommunity.com/schedule \nFind your zen and meet your best friend!
URL:https://www.homewardtrails.com/event/updog-yoga-adoption-event/
LOCATION:Up Dog Yoga Community\, 1550 7th St NW Suite C\, Washington\, DC\, 20001
CATEGORIES:Dog Adoption Events,Fundraisers
END:VEVENT
BEGIN:VEVENT
DTSTART;TZID=America/New_York:20240113T120000
DTEND;TZID=America/New_York:20240113T140000
DTSTAMP:20260424T012337
CREATED:20231211T223702Z
LAST-MODIFIED:20231211T223846Z
UID:10001508-1705147200-1705154400@www.homewardtrails.com
SUMMARY:Cat Adoption Event: The Dog Park (the store) Old Town Alexandria
DESCRIPTION:Come meet adoptable cats and kittens at The Dog Park in Alexandria (the store). Submit an adoption questionnaire in advance for quicker/event day adoption!\n\nYou can see all of our adoptable cats here. Complete an adoption questionnaire here.
URL:https://www.homewardtrails.com/event/cat-adoption-event-the-dog-park-the-store-old-town-alexandria-3/
LOCATION:The Dog Park\, 705 King St Suite 100\, Alexandria\, VA\, 22314\, United States
CATEGORIES:Cat Adoption Events
END:VEVENT
END:VCALENDAR