BEGIN:VCALENDAR
VERSION:2.0
PRODID:-//Homeward Trails Animal Rescue | Pet Adoption in VA, DC, MD - ECPv6.15.20//NONSGML v1.0//EN
CALSCALE:GREGORIAN
METHOD:PUBLISH
X-ORIGINAL-URL:https://www.homewardtrails.com
X-WR-CALDESC:Events for Homeward Trails Animal Rescue | Pet Adoption in VA, DC, MD
REFRESH-INTERVAL;VALUE=DURATION:PT1H
X-Robots-Tag:noindex
X-PUBLISHED-TTL:PT1H
BEGIN:VTIMEZONE
TZID:America/New_York
BEGIN:DAYLIGHT
TZOFFSETFROM:-0500
TZOFFSETTO:-0400
TZNAME:EDT
DTSTART:20220313T070000
END:DAYLIGHT
BEGIN:STANDARD
TZOFFSETFROM:-0400
TZOFFSETTO:-0500
TZNAME:EST
DTSTART:20221106T060000
END:STANDARD
BEGIN:DAYLIGHT
TZOFFSETFROM:-0500
TZOFFSETTO:-0400
TZNAME:EDT
DTSTART:20230312T070000
END:DAYLIGHT
BEGIN:STANDARD
TZOFFSETFROM:-0400
TZOFFSETTO:-0500
TZNAME:EST
DTSTART:20231105T060000
END:STANDARD
BEGIN:DAYLIGHT
TZOFFSETFROM:-0500
TZOFFSETTO:-0400
TZNAME:EDT
DTSTART:20240310T070000
END:DAYLIGHT
BEGIN:STANDARD
TZOFFSETFROM:-0400
TZOFFSETTO:-0500
TZNAME:EST
DTSTART:20241103T060000
END:STANDARD
END:VTIMEZONE
BEGIN:VEVENT
DTSTART;TZID=America/New_York:20231213T180000
DTEND;TZID=America/New_York:20231213T203000
DTSTAMP:20260424T001906
CREATED:20231125T012259Z
LAST-MODIFIED:20231125T012259Z
UID:10001483-1702490400-1702499400@www.homewardtrails.com
SUMMARY:Santa Photos at Barkhaus
DESCRIPTION:Bring your pup (or other adventurous pet) for photos with Santa benefitting Homeward Trails Animal Rescue. For $25 you will receive 3 edited digital images emailed to you within a week of the event and the option to purchase prints and products online. \n \n 
URL:https://www.homewardtrails.com/event/santa-photos-at-barkhaus/2023-12-13/
LOCATION:Barkhaus\, 529 E Howell Ave\, Alexandria\, 48\, 22301\, United States
CATEGORIES:Fundraisers
END:VEVENT
BEGIN:VEVENT
DTSTART;TZID=America/New_York:20231213T183000
DTEND;TZID=America/New_York:20231213T193000
DTSTAMP:20260424T001906
CREATED:20231105T134133Z
LAST-MODIFIED:20231105T134134Z
UID:10001418-1702492200-1702495800@www.homewardtrails.com
SUMMARY:All About Separation Anxiety Training
DESCRIPTION: All About Separation Anxiety -Preventing It & Addressing It\, Zoom training with Alexandra  Dilley\, CPDT-KA \nLearn more about Alexandra and her business Home Alone Canine at https://www.homealonecanine.com/ \nJoin here. \nMeeting ID: 872 9209 2545\nPasscode: 266003
URL:https://www.homewardtrails.com/event/all-about-separation-anxiety-training-2/2023-12-13/
LOCATION:VA
CATEGORIES:Orientations & Trainings
END:VEVENT
END:VCALENDAR