BEGIN:VCALENDAR
VERSION:2.0
PRODID:-//Homeward Trails Animal Rescue | Pet Adoption in VA, DC, MD - ECPv6.15.20//NONSGML v1.0//EN
CALSCALE:GREGORIAN
METHOD:PUBLISH
X-ORIGINAL-URL:https://www.homewardtrails.com
X-WR-CALDESC:Events for Homeward Trails Animal Rescue | Pet Adoption in VA, DC, MD
REFRESH-INTERVAL;VALUE=DURATION:PT1H
X-Robots-Tag:noindex
X-PUBLISHED-TTL:PT1H
BEGIN:VTIMEZONE
TZID:America/New_York
BEGIN:DAYLIGHT
TZOFFSETFROM:-0500
TZOFFSETTO:-0400
TZNAME:EDT
DTSTART:20220313T070000
END:DAYLIGHT
BEGIN:STANDARD
TZOFFSETFROM:-0400
TZOFFSETTO:-0500
TZNAME:EST
DTSTART:20221106T060000
END:STANDARD
BEGIN:DAYLIGHT
TZOFFSETFROM:-0500
TZOFFSETTO:-0400
TZNAME:EDT
DTSTART:20230312T070000
END:DAYLIGHT
BEGIN:STANDARD
TZOFFSETFROM:-0400
TZOFFSETTO:-0500
TZNAME:EST
DTSTART:20231105T060000
END:STANDARD
BEGIN:DAYLIGHT
TZOFFSETFROM:-0500
TZOFFSETTO:-0400
TZNAME:EDT
DTSTART:20240310T070000
END:DAYLIGHT
BEGIN:STANDARD
TZOFFSETFROM:-0400
TZOFFSETTO:-0500
TZNAME:EST
DTSTART:20241103T060000
END:STANDARD
END:VTIMEZONE
BEGIN:VEVENT
DTSTART;TZID=America/New_York:20231212T170000
DTEND;TZID=America/New_York:20231212T193000
DTSTAMP:20260422T101409
CREATED:20231211T225026Z
LAST-MODIFIED:20231211T225026Z
UID:10001688-1702400400-1702409400@www.homewardtrails.com
SUMMARY:SantaPaws at The Morrow Hotel
DESCRIPTION:Come out to The Morrow Hotel for  free family photos while supporting Homeward Trails. Sip on hot coffee\, cocoa\, apple cider\, and festive cocktails while enjoying the outdoor magic.
URL:https://www.homewardtrails.com/event/santapaws-at-the-morrow-hotel/
LOCATION:The Morrow Hotel\, 222 M Street NE\, Washington\, DC\, 20002\, United States
CATEGORIES:Fundraisers
END:VEVENT
BEGIN:VEVENT
DTSTART;TZID=America/New_York:20231212T180000
DTEND;TZID=America/New_York:20231212T190000
DTSTAMP:20260422T101409
CREATED:20231031T094440Z
LAST-MODIFIED:20231031T094542Z
UID:10001343-1702404000-1702407600@www.homewardtrails.com
SUMMARY:Puppy 101 Training
DESCRIPTION:Exclusively for our Homeward Trails puppy adopters! Join Jutka Terris\, CPDT-KA on Zoom\, to learn all about the basics of puppy training. \nYou can learn more about Jutka and her business PuppyK at https://www.puppyk.com/. \nJoin here.
URL:https://www.homewardtrails.com/event/puppy-101-2-2-2-2-2/2023-12-12/
LOCATION:Zoom\, VA\, United States
CATEGORIES:Orientations & Trainings
END:VEVENT
BEGIN:VEVENT
DTSTART;TZID=America/New_York:20231212T190000
DTEND;TZID=America/New_York:20231212T200000
DTSTAMP:20260422T101409
CREATED:20231031T093537Z
LAST-MODIFIED:20231031T093753Z
UID:10001346-1702407600-1702411200@www.homewardtrails.com
SUMMARY:Puppy 201 Training
DESCRIPTION:Exclusively for our Homeward Trails puppy adopters! Join Jutka Terris\, CPDT-KA on Zoom\, to learn all about the training your teenage puppy. \nYou can learn more about Jutka and her business PuppyK at https://www.puppyk.com/. \nJoin here.
URL:https://www.homewardtrails.com/event/puppy-201-training-2-2/2023-12-12/
LOCATION:Zoom\, VA\, United States
CATEGORIES:Orientations & Trainings
END:VEVENT
END:VCALENDAR