BEGIN:VCALENDAR
VERSION:2.0
PRODID:-//Homeward Trails Animal Rescue | Pet Adoption in VA, DC, MD - ECPv6.15.20//NONSGML v1.0//EN
CALSCALE:GREGORIAN
METHOD:PUBLISH
X-ORIGINAL-URL:https://www.homewardtrails.com
X-WR-CALDESC:Events for Homeward Trails Animal Rescue | Pet Adoption in VA, DC, MD
REFRESH-INTERVAL;VALUE=DURATION:PT1H
X-Robots-Tag:noindex
X-PUBLISHED-TTL:PT1H
BEGIN:VTIMEZONE
TZID:America/New_York
BEGIN:DAYLIGHT
TZOFFSETFROM:-0500
TZOFFSETTO:-0400
TZNAME:EDT
DTSTART:20220313T070000
END:DAYLIGHT
BEGIN:STANDARD
TZOFFSETFROM:-0400
TZOFFSETTO:-0500
TZNAME:EST
DTSTART:20221106T060000
END:STANDARD
BEGIN:DAYLIGHT
TZOFFSETFROM:-0500
TZOFFSETTO:-0400
TZNAME:EDT
DTSTART:20230312T070000
END:DAYLIGHT
BEGIN:STANDARD
TZOFFSETFROM:-0400
TZOFFSETTO:-0500
TZNAME:EST
DTSTART:20231105T060000
END:STANDARD
BEGIN:DAYLIGHT
TZOFFSETFROM:-0500
TZOFFSETTO:-0400
TZNAME:EDT
DTSTART:20240310T070000
END:DAYLIGHT
BEGIN:STANDARD
TZOFFSETFROM:-0400
TZOFFSETTO:-0500
TZNAME:EST
DTSTART:20241103T060000
END:STANDARD
END:VTIMEZONE
BEGIN:VEVENT
DTSTART;TZID=America/New_York:20231008T080000
DTEND;TZID=America/New_York:20231008T110000
DTSTAMP:20260421T235632
CREATED:20230915T210458Z
LAST-MODIFIED:20230915T210458Z
UID:10000794-1696752000-1696762800@www.homewardtrails.com
SUMMARY:RockBox Fitness Trunk Sale
DESCRIPTION:
URL:https://www.homewardtrails.com/event/rockbox-fitness-trunk-sale/
LOCATION:RockBox\, 7641 Somerset Crossing Dr\, Gainesville\, VA\, 20155\, United States
CATEGORIES:Dog Adoption Events
END:VEVENT
BEGIN:VEVENT
DTSTART;TZID=America/New_York:20231008T100000
DTEND;TZID=America/New_York:20231008T160000
DTSTAMP:20260421T235632
CREATED:20230429T221503Z
LAST-MODIFIED:20250410T030057Z
UID:10000195-1696759200-1696780800@www.homewardtrails.com
SUMMARY:Dog and Cat Adoption Hours
DESCRIPTION:Come visit the Homeward Trails Adoption Center every Saturday and Sunday to meet great cats and dogs available for adoption.
URL:https://www.homewardtrails.com/event/dog-and-cat-adoption-hours/2023-10-08/
LOCATION:Homeward Trails Manny Law Adoption Center\, 11116 Fairfax Station Rd\, Fairfax Station\, VA\, 22039\, United States
CATEGORIES:Cat Adoption Events,Dog Adoption Events
END:VEVENT
BEGIN:VEVENT
DTSTART;TZID=America/New_York:20231008T130000
DTEND;TZID=America/New_York:20231008T150000
DTSTAMP:20260421T235632
CREATED:20231001T151012Z
LAST-MODIFIED:20231001T151012Z
UID:10001097-1696770000-1696777200@www.homewardtrails.com
SUMMARY:Cat Adoption Event – Doggy Style Bakery DC
DESCRIPTION:Could one of the cats attending this event be the purrfect addition to your family? Come find out!
URL:https://www.homewardtrails.com/event/cat-adoption-event-doggy-style-bakery-dc-8/2023-10-08/
LOCATION:Doggy Style Bakery\, Boutique & Pet Spa\, 1632 17th St NW\, Washington\, DC\, 20009\, United States
CATEGORIES:Cat Adoption Events
END:VEVENT
END:VCALENDAR