BEGIN:VCALENDAR
VERSION:2.0
PRODID:-//Homeward Trails Animal Rescue | Pet Adoption in VA, DC, MD - ECPv6.15.20//NONSGML v1.0//EN
CALSCALE:GREGORIAN
METHOD:PUBLISH
X-ORIGINAL-URL:https://www.homewardtrails.com
X-WR-CALDESC:Events for Homeward Trails Animal Rescue | Pet Adoption in VA, DC, MD
REFRESH-INTERVAL;VALUE=DURATION:PT1H
X-Robots-Tag:noindex
X-PUBLISHED-TTL:PT1H
BEGIN:VTIMEZONE
TZID:America/New_York
BEGIN:DAYLIGHT
TZOFFSETFROM:-0500
TZOFFSETTO:-0400
TZNAME:EDT
DTSTART:20220313T070000
END:DAYLIGHT
BEGIN:STANDARD
TZOFFSETFROM:-0400
TZOFFSETTO:-0500
TZNAME:EST
DTSTART:20221106T060000
END:STANDARD
BEGIN:DAYLIGHT
TZOFFSETFROM:-0500
TZOFFSETTO:-0400
TZNAME:EDT
DTSTART:20230312T070000
END:DAYLIGHT
BEGIN:STANDARD
TZOFFSETFROM:-0400
TZOFFSETTO:-0500
TZNAME:EST
DTSTART:20231105T060000
END:STANDARD
BEGIN:DAYLIGHT
TZOFFSETFROM:-0500
TZOFFSETTO:-0400
TZNAME:EDT
DTSTART:20240310T070000
END:DAYLIGHT
BEGIN:STANDARD
TZOFFSETFROM:-0400
TZOFFSETTO:-0500
TZNAME:EST
DTSTART:20241103T060000
END:STANDARD
END:VTIMEZONE
BEGIN:VEVENT
DTSTART;TZID=America/New_York:20231001T100000
DTEND;TZID=America/New_York:20231001T160000
DTSTAMP:20260421T235317
CREATED:20230429T221503Z
LAST-MODIFIED:20250410T030057Z
UID:10000193-1696154400-1696176000@www.homewardtrails.com
SUMMARY:Dog and Cat Adoption Hours
DESCRIPTION:Come visit the Homeward Trails Adoption Center every Saturday and Sunday to meet great cats and dogs available for adoption.
URL:https://www.homewardtrails.com/event/dog-and-cat-adoption-hours/2023-10-01/
LOCATION:Homeward Trails Manny Law Adoption Center\, 11116 Fairfax Station Rd\, Fairfax Station\, VA\, 22039\, United States
CATEGORIES:Cat Adoption Events,Dog Adoption Events
END:VEVENT
BEGIN:VEVENT
DTSTART;TZID=America/New_York:20231001T110000
DTEND;TZID=America/New_York:20231001T130000
DTSTAMP:20260421T235317
CREATED:20230904T203140Z
LAST-MODIFIED:20230904T203140Z
UID:10000793-1696158000-1696165200@www.homewardtrails.com
SUMMARY:Pet Blessing At Resurrection Lutheran Event
DESCRIPTION:Join Homeward trails and some adorable\, adoptable dogs at the Resurrection Lutheran Church. \nThe actual pet blessing service will take place at 10 AM.  Humans and pets will attend the service in the Parish Hall\, where it will be live-streamed.   After the last hymn (which would be about 11 – 11:15 AM)\, Pastor Harry will lead the congregation out to the front lawn\, where the humans and pets will be waiting.  There\, he will bless the pets\, send the congregation out\, and we will have an inter-species coffee hour.  There will be treats for the pets\, of course.
URL:https://www.homewardtrails.com/event/pet-blessing-at-resurrection-lutheran-event/
LOCATION:Resurrection Lutheran Church\, 6201 Washington Blvd\, Arlington\, VA\, 22205\, United States
CATEGORIES:Dog Adoption Events
END:VEVENT
END:VCALENDAR